BEGIN:VCALENDAR
VERSION:2.0
PRODID:-//Vissefjärda CK - ECPv6.15.20//NONSGML v1.0//EN
CALSCALE:GREGORIAN
METHOD:PUBLISH
X-ORIGINAL-URL:https://vck.se
X-WR-CALDESC:Händelser för Vissefjärda CK
REFRESH-INTERVAL;VALUE=DURATION:PT1H
X-Robots-Tag:noindex
X-PUBLISHED-TTL:PT1H
BEGIN:VTIMEZONE
TZID:Europe/Stockholm
BEGIN:DAYLIGHT
TZOFFSETFROM:+0100
TZOFFSETTO:+0200
TZNAME:CEST
DTSTART:20240331T010000
END:DAYLIGHT
BEGIN:STANDARD
TZOFFSETFROM:+0200
TZOFFSETTO:+0100
TZNAME:CET
DTSTART:20241027T010000
END:STANDARD
BEGIN:DAYLIGHT
TZOFFSETFROM:+0100
TZOFFSETTO:+0200
TZNAME:CEST
DTSTART:20250330T010000
END:DAYLIGHT
BEGIN:STANDARD
TZOFFSETFROM:+0200
TZOFFSETTO:+0100
TZNAME:CET
DTSTART:20251026T010000
END:STANDARD
BEGIN:DAYLIGHT
TZOFFSETFROM:+0100
TZOFFSETTO:+0200
TZNAME:CEST
DTSTART:20260329T010000
END:DAYLIGHT
BEGIN:STANDARD
TZOFFSETFROM:+0200
TZOFFSETTO:+0100
TZNAME:CET
DTSTART:20261025T010000
END:STANDARD
END:VTIMEZONE
BEGIN:VEVENT
DTSTART;TZID=Europe/Stockholm:20250601T120000
DTEND;TZID=Europe/Stockholm:20250601T160000
DTSTAMP:20260420T111938
CREATED:20250519T102108Z
LAST-MODIFIED:20250519T102108Z
UID:5222-1748779200-1748793600@vck.se
SUMMARY:Träningsvärd Nicklas Svensson
DESCRIPTION:Nicklas 073-515 43 14.
URL:https://vck.se/event/traningsvard-nicklas-svensson-5/
LOCATION:Rövaredalen\, Grämnamåla 201\, Vissefjärda\, 361 96\, Sverige
CATEGORIES:Alla medlemmar,Rövaredalen,Träningsvärd
ORGANIZER;CN="Vissefj%C3%A4rda CK":MAILTO:info@vck.se
END:VEVENT
BEGIN:VEVENT
DTSTART;TZID=Europe/Stockholm:20250604T170000
DTEND;TZID=Europe/Stockholm:20250604T200000
DTSTAMP:20260420T111938
CREATED:20250519T102446Z
LAST-MODIFIED:20250519T102446Z
UID:5178-1749056400-1749067200@vck.se
SUMMARY:Träningsvärd Fredrik Frid.
DESCRIPTION:Fredrik 073-544 22 59.
URL:https://vck.se/event/traningsvard-fredrik-frid-5/
LOCATION:Rövaredalen\, Grämnamåla 201\, Vissefjärda\, 361 96\, Sverige
CATEGORIES:Alla medlemmar,Rövaredalen,Träning,Träningsvärd
ORGANIZER;CN="Vissefj%C3%A4rda CK":MAILTO:info@vck.se
END:VEVENT
BEGIN:VEVENT
DTSTART;TZID=Europe/Stockholm:20250607T090000
DTEND;TZID=Europe/Stockholm:20250607T160000
DTSTAMP:20260420T111938
CREATED:20250523T091943Z
LAST-MODIFIED:20250523T091943Z
UID:5287-1749286800-1749312000@vck.se
SUMMARY:Välkomna på arbets och träningsdag med grillning.
DESCRIPTION:Hej alla medlemmar! \nDen 7/6 kl.9.00 träffas vi för att städa upp och snygga till lite runt banan och anläggningen i Rövaredalen.\nDet finns en del kvar att göra sedan ombyggnaden av banan.\nAlla är välkomna\, det finns uppgifter till stor som liten. \nVid lunchtid ca.12.30 bjuder klubben på grillad korv och en kopp kaffe. \nEfter grillningen är banan öppen för Er som vill stanna kvar och träna. \nHjärtligt välkomna! / Styrelsen \n 
URL:https://vck.se/event/valkomna-pa-arbets-och-traningsdag-med-grillning/
LOCATION:Rövaredalen\, Grämnamåla 201\, Vissefjärda\, 361 96\, Sverige
CATEGORIES:Alla medlemmar,Arbetsdag,Rövaredalen,Träning
ORGANIZER;CN="Vissefj%C3%A4rda CK":MAILTO:info@vck.se
END:VEVENT
BEGIN:VEVENT
DTSTART;TZID=Europe/Stockholm:20250608T120000
DTEND;TZID=Europe/Stockholm:20250608T160000
DTSTAMP:20260420T111938
CREATED:20250519T103328Z
LAST-MODIFIED:20250604T104734Z
UID:5232-1749384000-1749398400@vck.se
SUMMARY:Träningsvärd Peter Friberg.
DESCRIPTION:Peter 070-334 87 59.
URL:https://vck.se/event/traningsvard-mattias-tehagen/
LOCATION:Rövaredalen\, Grämnamåla 201\, Vissefjärda\, 361 96\, Sverige
CATEGORIES:Alla medlemmar,Rövaredalen,Träning,Träningsvärd
ORGANIZER;CN="Vissefj%C3%A4rda CK":MAILTO:info@vck.se
END:VEVENT
BEGIN:VEVENT
DTSTART;TZID=Europe/Stockholm:20250611T170000
DTEND;TZID=Europe/Stockholm:20250611T200000
DTSTAMP:20260420T111938
CREATED:20250519T102633Z
LAST-MODIFIED:20250519T102633Z
UID:5226-1749661200-1749672000@vck.se
SUMMARY:Träningsvärd Pierre Appelqvist.
DESCRIPTION:Pierre 073-179 93 68.
URL:https://vck.se/event/traningsvard-pierre-appelqvist-9/
LOCATION:Rövaredalen\, Grämnamåla 201\, Vissefjärda\, 361 96\, Sverige
CATEGORIES:Alla medlemmar,Rövaredalen,Träning,Träningsvärd
ORGANIZER;CN="Vissefj%C3%A4rda CK":MAILTO:info@vck.se
END:VEVENT
BEGIN:VEVENT
DTSTART;TZID=Europe/Stockholm:20250615T120000
DTEND;TZID=Europe/Stockholm:20250615T160000
DTSTAMP:20260420T111938
CREATED:20250519T103450Z
LAST-MODIFIED:20250519T103450Z
UID:5234-1749988800-1750003200@vck.se
SUMMARY:Träningsvärd Christer Bernhäll.
DESCRIPTION:Christer 070-311 35 43.
URL:https://vck.se/event/traningsvard-christer-bernhall-2/
LOCATION:Rövaredalen\, Grämnamåla 201\, Vissefjärda\, 361 96\, Sverige
CATEGORIES:Alla medlemmar,Rövaredalen,Träning,Träningsvärd
ORGANIZER;CN="Vissefj%C3%A4rda CK":MAILTO:info@vck.se
END:VEVENT
BEGIN:VEVENT
DTSTART;TZID=Europe/Stockholm:20250618T170000
DTEND;TZID=Europe/Stockholm:20250618T200000
DTSTAMP:20260420T111938
CREATED:20250519T102747Z
LAST-MODIFIED:20250617T120040Z
UID:5228-1750266000-1750276800@vck.se
SUMMARY:Träningsvärd Johan Svensson.
DESCRIPTION:Johan 072-211 11 55.
URL:https://vck.se/event/traningsvard-max-svensson/
LOCATION:Rövaredalen\, Grämnamåla 201\, Vissefjärda\, 361 96\, Sverige
CATEGORIES:Alla medlemmar,Rövaredalen,Träning,Träningsvärd
ORGANIZER;CN="Vissefj%C3%A4rda CK":MAILTO:info@vck.se
END:VEVENT
BEGIN:VEVENT
DTSTART;TZID=Europe/Stockholm:20250622T120000
DTEND;TZID=Europe/Stockholm:20250622T160000
DTSTAMP:20260420T111938
CREATED:20250519T103617Z
LAST-MODIFIED:20250519T103617Z
UID:5236-1750593600-1750608000@vck.se
SUMMARY:Träningsvärd Andreas Övgård.
DESCRIPTION:Andreas 073-338 76 92.
URL:https://vck.se/event/traningsvard-andreas-ovgard-3/
LOCATION:Rövaredalen\, Grämnamåla 201\, Vissefjärda\, 361 96\, Sverige
CATEGORIES:Alla medlemmar,Rövaredalen,Träning,Träningsvärd
ORGANIZER;CN="Vissefj%C3%A4rda CK":MAILTO:info@vck.se
END:VEVENT
BEGIN:VEVENT
DTSTART;TZID=Europe/Stockholm:20250625T170000
DTEND;TZID=Europe/Stockholm:20250625T200000
DTSTAMP:20260420T111938
CREATED:20250519T103102Z
LAST-MODIFIED:20250617T120145Z
UID:5230-1750870800-1750881600@vck.se
SUMMARY:Träningsvärd Max Svensson.
DESCRIPTION:Max 076-841 24 01.
URL:https://vck.se/event/traningsvard-johan-svensson/
LOCATION:Rövaredalen\, Grämnamåla 201\, Vissefjärda\, 361 96\, Sverige
CATEGORIES:Alla medlemmar,Rövaredalen,Träning,Träningsvärd
ORGANIZER;CN="Vissefj%C3%A4rda CK":MAILTO:info@vck.se
END:VEVENT
BEGIN:VEVENT
DTSTART;TZID=Europe/Stockholm:20250629T120000
DTEND;TZID=Europe/Stockholm:20250629T160000
DTSTAMP:20260420T111938
CREATED:20250519T103723Z
LAST-MODIFIED:20250604T104938Z
UID:5238-1751198400-1751212800@vck.se
SUMMARY:Träningsvärd Mattias Tehagen.
DESCRIPTION:073-444 64 50.
URL:https://vck.se/event/traningsvard-peter-friberg-9/
LOCATION:Rövaredalen\, Grämnamåla 201\, Vissefjärda\, 361 96\, Sverige
CATEGORIES:Alla medlemmar,Rövaredalen,Träning,Träningsvärd
ORGANIZER;CN="Vissefj%C3%A4rda CK":MAILTO:info@vck.se
END:VEVENT
END:VCALENDAR