BEGIN:VCALENDAR
VERSION:2.0
PRODID:-//Vissefjärda CK - ECPv6.15.20//NONSGML v1.0//EN
CALSCALE:GREGORIAN
METHOD:PUBLISH
X-ORIGINAL-URL:https://vck.se
X-WR-CALDESC:Händelser för Vissefjärda CK
REFRESH-INTERVAL;VALUE=DURATION:PT1H
X-Robots-Tag:noindex
X-PUBLISHED-TTL:PT1H
BEGIN:VTIMEZONE
TZID:Europe/Stockholm
BEGIN:DAYLIGHT
TZOFFSETFROM:+0100
TZOFFSETTO:+0200
TZNAME:CEST
DTSTART:20220327T010000
END:DAYLIGHT
BEGIN:STANDARD
TZOFFSETFROM:+0200
TZOFFSETTO:+0100
TZNAME:CET
DTSTART:20221030T010000
END:STANDARD
BEGIN:DAYLIGHT
TZOFFSETFROM:+0100
TZOFFSETTO:+0200
TZNAME:CEST
DTSTART:20230326T010000
END:DAYLIGHT
BEGIN:STANDARD
TZOFFSETFROM:+0200
TZOFFSETTO:+0100
TZNAME:CET
DTSTART:20231029T010000
END:STANDARD
BEGIN:DAYLIGHT
TZOFFSETFROM:+0100
TZOFFSETTO:+0200
TZNAME:CEST
DTSTART:20240331T010000
END:DAYLIGHT
BEGIN:STANDARD
TZOFFSETFROM:+0200
TZOFFSETTO:+0100
TZNAME:CET
DTSTART:20241027T010000
END:STANDARD
END:VTIMEZONE
BEGIN:VEVENT
DTSTART;TZID=Europe/Stockholm:20231001T100000
DTEND;TZID=Europe/Stockholm:20231001T120000
DTSTAMP:20260419T145035
CREATED:20230810T102909Z
LAST-MODIFIED:20230810T111736Z
UID:4372-1696154400-1696161600@vck.se
SUMMARY:Crosskola 10.00-12.00
DESCRIPTION:Söndagen den 20/8 börjar Crosskolan igen efter sommaruppehållet.\nVi har satt upp tre söndagar i höst.\n20/8 kl.10-12.\n3/9 kl.10-12.\n1/10 kl.10-12. \nTränare: Andreas Sjöberg \nHar du några frågor är du välkommen att mejla kansliet.  kansli@vck.se \nVälkomna!
URL:https://vck.se/event/crosskola-10-00-12-00-7/
LOCATION:Rövaredalen\, Grämnamåla 201\, Vissefjärda\, 361 96\, Sverige
CATEGORIES:Alla medlemmar,Crosskolan,Rövaredalen,Träning
ORGANIZER;CN="Vissefj%C3%A4rda CK":MAILTO:info@vck.se
END:VEVENT
BEGIN:VEVENT
DTSTART;TZID=Europe/Stockholm:20231001T120000
DTEND;TZID=Europe/Stockholm:20231001T160000
DTSTAMP:20260419T145035
CREATED:20230523T085804Z
LAST-MODIFIED:20230523T095009Z
UID:4283-1696161600-1696176000@vck.se
SUMMARY:Träningsvärd Jannis Dimtsas.
DESCRIPTION:Jannis 070-887 03 69.
URL:https://vck.se/event/traningsvard-sebastian-gottfridsson-6/
LOCATION:Rövaredalen\, Grämnamåla 201\, Vissefjärda\, 361 96\, Sverige
CATEGORIES:Alla medlemmar,Rövaredalen,Träning,Träningsvärd
ORGANIZER;CN="Vissefj%C3%A4rda CK":MAILTO:info@vck.se
END:VEVENT
BEGIN:VEVENT
DTSTART;TZID=Europe/Stockholm:20231004T110000
DTEND;TZID=Europe/Stockholm:20231004T150000
DTSTAMP:20260419T145035
CREATED:20231004T080221Z
LAST-MODIFIED:20231004T080221Z
UID:4456-1696417200-1696431600@vck.se
SUMMARY:Vintertid: Om det finns träningsvärd är banan öppen kl.11-15.
DESCRIPTION:Medlemmar som vill träna är välkomna att anmäla sig som träningsvärdar onsdagar 11-15.\nMeddela kansli@vck.se
URL:https://vck.se/event/vintertid-om-det-finns-traningsvard-ar-banan-oppen-kl-11-15/
CATEGORIES:Alla medlemmar,Rövaredalen,Träning,Träningsvärd
END:VEVENT
BEGIN:VEVENT
DTSTART;TZID=Europe/Stockholm:20231008T110000
DTEND;TZID=Europe/Stockholm:20231008T150000
DTSTAMP:20260419T145035
CREATED:20230523T085955Z
LAST-MODIFIED:20231004T075539Z
UID:4285-1696762800-1696777200@vck.se
SUMMARY:Träningsvärd Mikael Arthursson. Vintertid 11-15.
DESCRIPTION:Mikael 070-3241411.
URL:https://vck.se/event/traningsvard-micke-lindblad/
LOCATION:Rövaredalen\, Grämnamåla 201\, Vissefjärda\, 361 96\, Sverige
CATEGORIES:Alla medlemmar,Rövaredalen,Träning,Träningsvärd
ORGANIZER;CN="Vissefj%C3%A4rda CK":MAILTO:info@vck.se
END:VEVENT
BEGIN:VEVENT
DTSTART;TZID=Europe/Stockholm:20231011T130000
DTEND;TZID=Europe/Stockholm:20231011T150000
DTSTAMP:20260419T145035
CREATED:20231011T101905Z
LAST-MODIFIED:20231011T101905Z
UID:4486-1697029200-1697036400@vck.se
SUMMARY:Banan är öppen 13.00-15.00.
DESCRIPTION:Alfons öppnar banan idag 13-15.
URL:https://vck.se/event/banan-ar-oppen-13-00-15-00/
LOCATION:Rövaredalen\, Grämnamåla 201\, Vissefjärda\, 361 96\, Sverige
CATEGORIES:Rövaredalen,Träning,Träningsvärd
ORGANIZER;CN="Vissefj%C3%A4rda CK":MAILTO:info@vck.se
END:VEVENT
BEGIN:VEVENT
DTSTART;VALUE=DATE:20231015
DTEND;VALUE=DATE:20231016
DTSTAMP:20260419T145035
CREATED:20230814T095606Z
LAST-MODIFIED:20230926T110610Z
UID:4387-1697328000-1697414399@vck.se
SUMMARY:Klubbmästerskap.
DESCRIPTION:Info hittar du under rubriken tävlingar/resultat\, KM.
URL:https://vck.se/event/traningsvard-nicklas-svensson-3/
LOCATION:Rövaredalen\, Grämnamåla 201\, Vissefjärda\, 361 96\, Sverige
CATEGORIES:Alla medlemmar,Klubbmästerskap,Tävling
ORGANIZER;CN="Vissefj%C3%A4rda CK":MAILTO:info@vck.se
END:VEVENT
BEGIN:VEVENT
DTSTART;TZID=Europe/Stockholm:20231018T110000
DTEND;TZID=Europe/Stockholm:20231018T150000
DTSTAMP:20260419T145035
CREATED:20231004T080905Z
LAST-MODIFIED:20231004T080905Z
UID:4462-1697626800-1697641200@vck.se
SUMMARY:Vintertid: Om det finns träningsvärd är banan öppen kl.11-15.
DESCRIPTION:Medlemmar som vill träna är välkomna att anmäla sig som träningsvärdar onsdagar 11-15.\nMeddela kansli@vck.se
URL:https://vck.se/event/vintertid-om-det-finns-traningsvard-ar-banan-oppen-kl-11-15-3/
CATEGORIES:Alla medlemmar,Rövaredalen,Träning,Träningsvärd
END:VEVENT
BEGIN:VEVENT
DTSTART;VALUE=DATE:20231021
DTEND;VALUE=DATE:20231022
DTSTAMP:20260419T145035
CREATED:20230310T112513Z
LAST-MODIFIED:20231020T100050Z
UID:4052-1697846400-1697932799@vck.se
SUMMARY:Stubbracet är flyttat till imorgon 22/10.
DESCRIPTION:På grund av rådande väderförhållande så flyttas Stubbracet till söndagen.\nVäderprognos för helgen säger följande.\nLördag 21\,4 mm regn\, vindbyar på 23m/s och 3-5grader.\nSöndag 0 mm regn\, vind 1-4m/s 12grader.\nSkulle ni inte ha möjlighet att köra på söndag så hör gärna av er. \nHälsningar styrelsen
URL:https://vck.se/event/stubbrace/
CATEGORIES:Alla medlemmar,Stubbrace
END:VEVENT
BEGIN:VEVENT
DTSTART;VALUE=DATE:20231022
DTEND;VALUE=DATE:20231023
DTSTAMP:20260419T145035
CREATED:20231020T100804Z
LAST-MODIFIED:20231020T100854Z
UID:4519-1697932800-1698019199@vck.se
SUMMARY:Stubbrace
DESCRIPTION:Information finns under tävlingar/resultat.
URL:https://vck.se/event/stubbrace-2/
LOCATION:Glasholmen 2:29\, Glasholmsvägen\, Söderåkra\, Sweden
CATEGORIES:Alla medlemmar,Stubbrace,Tävling
ORGANIZER;CN="Vissefj%C3%A4rda CK":MAILTO:info@vck.se
END:VEVENT
BEGIN:VEVENT
DTSTART;TZID=Europe/Stockholm:20231022T110000
DTEND;TZID=Europe/Stockholm:20231022T150000
DTSTAMP:20260419T145035
CREATED:20230814T095316Z
LAST-MODIFIED:20231020T095528Z
UID:4385-1697972400-1697986800@vck.se
SUMMARY:Idag är banan stängd.
DESCRIPTION:
URL:https://vck.se/event/traningsvard-nicklas-svensson-2/
LOCATION:Rövaredalen\, Grämnamåla 201\, Vissefjärda\, 361 96\, Sverige
CATEGORIES:Alla medlemmar,Träning,Träningsvärd
ORGANIZER;CN="Vissefj%C3%A4rda CK":MAILTO:info@vck.se
END:VEVENT
BEGIN:VEVENT
DTSTART;TZID=Europe/Stockholm:20231025T110000
DTEND;TZID=Europe/Stockholm:20231025T150000
DTSTAMP:20260419T145035
CREATED:20231004T081032Z
LAST-MODIFIED:20231004T081032Z
UID:4464-1698231600-1698246000@vck.se
SUMMARY:Vintertid: Om det finns träningsvärd är banan öppen kl.11-15.
DESCRIPTION:Medlemmar som vill träna är välkomna att anmäla sig som träningsvärdar onsdagar 11-15.\nMeddela kansli@vck.se
URL:https://vck.se/event/vintertid-om-det-finns-traningsvard-ar-banan-oppen-kl-11-15-4/
CATEGORIES:Alla medlemmar,Rövaredalen,Träning,Träningsvärd
END:VEVENT
BEGIN:VEVENT
DTSTART;VALUE=DATE:20231029
DTEND;VALUE=DATE:20231030
DTSTAMP:20260419T145035
CREATED:20230926T111101Z
LAST-MODIFIED:20231004T075434Z
UID:4445-1698537600-1698623999@vck.se
SUMMARY:Banan är stängd.
DESCRIPTION:
URL:https://vck.se/event/banan-ar-stangd/
CATEGORIES:Alla medlemmar,Rövaredalen,Träningsvärd
END:VEVENT
END:VCALENDAR