BEGIN:VCALENDAR
VERSION:2.0
PRODID:-//Vissefjärda CK - ECPv6.15.20//NONSGML v1.0//EN
CALSCALE:GREGORIAN
METHOD:PUBLISH
X-WR-CALNAME:Vissefjärda CK
X-ORIGINAL-URL:https://vck.se
X-WR-CALDESC:Händelser för Vissefjärda CK
REFRESH-INTERVAL;VALUE=DURATION:PT1H
X-Robots-Tag:noindex
X-PUBLISHED-TTL:PT1H
BEGIN:VTIMEZONE
TZID:Europe/Stockholm
BEGIN:DAYLIGHT
TZOFFSETFROM:+0100
TZOFFSETTO:+0200
TZNAME:CEST
DTSTART:20230326T010000
END:DAYLIGHT
BEGIN:STANDARD
TZOFFSETFROM:+0200
TZOFFSETTO:+0100
TZNAME:CET
DTSTART:20231029T010000
END:STANDARD
BEGIN:DAYLIGHT
TZOFFSETFROM:+0100
TZOFFSETTO:+0200
TZNAME:CEST
DTSTART:20240331T010000
END:DAYLIGHT
BEGIN:STANDARD
TZOFFSETFROM:+0200
TZOFFSETTO:+0100
TZNAME:CET
DTSTART:20241027T010000
END:STANDARD
BEGIN:DAYLIGHT
TZOFFSETFROM:+0100
TZOFFSETTO:+0200
TZNAME:CEST
DTSTART:20250330T010000
END:DAYLIGHT
BEGIN:STANDARD
TZOFFSETFROM:+0200
TZOFFSETTO:+0100
TZNAME:CET
DTSTART:20251026T010000
END:STANDARD
END:VTIMEZONE
BEGIN:VEVENT
DTSTART;TZID=Europe/Stockholm:20240410T170000
DTEND;TZID=Europe/Stockholm:20240410T200000
DTSTAMP:20260420T131303
CREATED:20240307T104837Z
LAST-MODIFIED:20240405T094224Z
UID:4623-1712768400-1712779200@vck.se
SUMMARY:Träningsvärd Johan Cederlund.
DESCRIPTION:Johan 070-229 05 05.
URL:https://vck.se/event/traningsvard-johan-cederlund-2/
LOCATION:Rövaredalen\, Grämnamåla 201\, Vissefjärda\, 361 96\, Sverige
CATEGORIES:Alla medlemmar,Rövaredalen,Träningsvärd
ORGANIZER;CN="Vissefj%C3%A4rda CK":MAILTO:info@vck.se
END:VEVENT
BEGIN:VEVENT
DTSTART;VALUE=DATE:20240413
DTEND;VALUE=DATE:20240414
DTSTAMP:20260420T131303
CREATED:20240307T120617Z
LAST-MODIFIED:20240411T105513Z
UID:4668-1712966400-1713052799@vck.se
SUMMARY:Arbetsdag inför serietävlingen kl.10.00.
DESCRIPTION:Arbetsdag inför serietävlingen.\nTa gärna med lite egna verktyg\, skruvdragare\, såg mm.\nKlubben bjuder på grillad korv med bröd. \nVälkomna!
URL:https://vck.se/event/arbetsdag-2/
LOCATION:Rövaredalen\, Grämnamåla 201\, Vissefjärda\, 361 96\, Sverige
CATEGORIES:Alla medlemmar,Arbetsdag,Rövaredalen
ORGANIZER;CN="Vissefj%C3%A4rda CK":MAILTO:info@vck.se
END:VEVENT
BEGIN:VEVENT
DTSTART;VALUE=DATE:20240413
DTEND;VALUE=DATE:20240414
DTSTAMP:20260420T131303
CREATED:20240405T093910Z
LAST-MODIFIED:20240405T093910Z
UID:4729-1712966400-1713052799@vck.se
SUMMARY:Prova på cross i Rövaredalen.
DESCRIPTION:Funderar du på att börja köra cross och vill testa om det är något för dig?\nLördag den 13/4 från kl. 10.00 har vi prova på för barn och ungdomar.\nKlubben har utrustning och crossar \, 50 cc – 85 cc.\nKostnad 300:- inkl. försäkring.\n30 minuters körning på anvisad plats i depån eller på lilla banan. \nFöräldrar ansvara för och hjälper sitt barn tillsammans med medlem från klubben. \nAnmälan skickas till kansli@vck.se senast fredag 12/4 kl.12.00. \nVälkomna! \n 
URL:https://vck.se/event/prova-pa-cross-i-rovaredalen/
LOCATION:Rövaredalen\, Grämnamåla 201\, Vissefjärda\, 361 96\, Sverige
CATEGORIES:Alla medlemmar,Prova på motocross.,Rövaredalen
ORGANIZER;CN="Vissefj%C3%A4rda CK":MAILTO:info@vck.se
END:VEVENT
BEGIN:VEVENT
DTSTART;TZID=Europe/Stockholm:20240414T090000
DTEND;TZID=Europe/Stockholm:20240414T120000
DTSTAMP:20260420T131303
CREATED:20240307T120833Z
LAST-MODIFIED:20240411T105735Z
UID:4670-1713085200-1713096000@vck.se
SUMMARY:Arbetsdag 9.00-12.00.
DESCRIPTION:Arbetsdag inför serietävlingen.\nTa gärna med lite egna verktyg\, skruvdragare\, såg mm.\nKlubben bjuder på grillad korv med bröd. \nVälkomna!
URL:https://vck.se/event/arbetsdag-4/
LOCATION:Rövaredalen\, Grämnamåla 201\, Vissefjärda\, 361 96\, Sverige
CATEGORIES:Alla medlemmar,Arbetsdag,Rövaredalen
ORGANIZER;CN="Vissefj%C3%A4rda CK":MAILTO:info@vck.se
END:VEVENT
BEGIN:VEVENT
DTSTART;TZID=Europe/Stockholm:20240414T120000
DTEND;TZID=Europe/Stockholm:20240414T160000
DTSTAMP:20260420T131303
CREATED:20240307T104214Z
LAST-MODIFIED:20240412T082656Z
UID:4616-1713096000-1713110400@vck.se
SUMMARY:Träningsvärd Jonas Svensson
DESCRIPTION:Jonas 070-647 77 58.
URL:https://vck.se/event/traningsvard-jannis-dimtsas-2/
LOCATION:Rövaredalen\, Grämnamåla 201\, Vissefjärda\, 361 96\, Sverige
CATEGORIES:Rövaredalen,Träningsvärd
ORGANIZER;CN="Vissefj%C3%A4rda CK":MAILTO:info@vck.se
END:VEVENT
BEGIN:VEVENT
DTSTART;TZID=Europe/Stockholm:20240417T170000
DTEND;TZID=Europe/Stockholm:20240417T200000
DTSTAMP:20260420T131303
CREATED:20240307T105004Z
LAST-MODIFIED:20240307T105004Z
UID:4625-1713373200-1713384000@vck.se
SUMMARY:Träningsvärd Fredrik Frid.
DESCRIPTION:Fredrik 073-544 22 59.
URL:https://vck.se/event/traningsvard-fredrik-frid-3/
LOCATION:Rövaredalen\, Grämnamåla 201\, Vissefjärda\, 361 96\, Sverige
CATEGORIES:Alla medlemmar,Rövaredalen,Träningsvärd
ORGANIZER;CN="Vissefj%C3%A4rda CK":MAILTO:info@vck.se
END:VEVENT
BEGIN:VEVENT
DTSTART;TZID=Europe/Stockholm:20240421T120000
DTEND;TZID=Europe/Stockholm:20240421T160000
DTSTAMP:20260420T131303
CREATED:20240307T104337Z
LAST-MODIFIED:20240405T100034Z
UID:4618-1713700800-1713715200@vck.se
SUMMARY:Träningsvärd Linus Astander.
DESCRIPTION:Linus 070-882 36 58.
URL:https://vck.se/event/traningsvard-linus-astander-2/
LOCATION:Rövaredalen\, Grämnamåla 201\, Vissefjärda\, 361 96\, Sverige
CATEGORIES:Rövaredalen,Träningsvärd
ORGANIZER;CN="Vissefj%C3%A4rda CK":MAILTO:info@vck.se
END:VEVENT
BEGIN:VEVENT
DTSTART;TZID=Europe/Stockholm:20240424T170000
DTEND;TZID=Europe/Stockholm:20240424T200000
DTSTAMP:20260420T131303
CREATED:20240307T105813Z
LAST-MODIFIED:20240307T105813Z
UID:4627-1713978000-1713988800@vck.se
SUMMARY:Träningsvärd Emil Eriksson.
DESCRIPTION:Emil 073-579 04 63.
URL:https://vck.se/event/traningsvard-emil-eriksson-2/
LOCATION:Rövaredalen\, Grämnamåla 201\, Vissefjärda\, 361 96\, Sverige
CATEGORIES:Alla medlemmar,Rövaredalen,Träningsvärd
ORGANIZER;CN="Vissefj%C3%A4rda CK":MAILTO:info@vck.se
END:VEVENT
BEGIN:VEVENT
DTSTART;TZID=Europe/Stockholm:20240428T100000
DTEND;TZID=Europe/Stockholm:20240428T120000
DTSTAMP:20260420T131303
CREATED:20240426T123647Z
LAST-MODIFIED:20240426T123817Z
UID:4784-1714298400-1714305600@vck.se
SUMMARY:Crosskola
DESCRIPTION:
URL:https://vck.se/event/crosskola/
LOCATION:Rövaredalen\, Grämnamåla 201\, Vissefjärda\, 361 96\, Sverige
CATEGORIES:Crosskolan,Rövaredalen,Träning
ORGANIZER;CN="Vissefj%C3%A4rda CK":MAILTO:info@vck.se
END:VEVENT
BEGIN:VEVENT
DTSTART;TZID=Europe/Stockholm:20240428T120000
DTEND;TZID=Europe/Stockholm:20240428T160000
DTSTAMP:20260420T131303
CREATED:20240402T082334Z
LAST-MODIFIED:20240402T082334Z
UID:4722-1714305600-1714320000@vck.se
SUMMARY:Träningsvärd Andreas Nilsson.
DESCRIPTION:Andreas 070-356 87 47.
URL:https://vck.se/event/traningsvard-andreas-nilsson-3/
LOCATION:Rövaredalen\, Grämnamåla 201\, Vissefjärda\, 361 96\, Sverige
CATEGORIES:Alla medlemmar,Rövaredalen,Träning,Träningsvärd
ORGANIZER;CN="Vissefj%C3%A4rda CK":MAILTO:info@vck.se
END:VEVENT
BEGIN:VEVENT
DTSTART;VALUE=DATE:20240501
DTEND;VALUE=DATE:20240502
DTSTAMP:20260420T131303
CREATED:20240307T111855Z
LAST-MODIFIED:20240307T111855Z
UID:4629-1714521600-1714607999@vck.se
SUMMARY:Serietävling
DESCRIPTION:
URL:https://vck.se/event/serietavling/
LOCATION:Rövaredalen\, Grämnamåla 201\, Vissefjärda\, 361 96\, Sverige
CATEGORIES:Alla medlemmar,Rövaredalen,Tävling
ORGANIZER;CN="Vissefj%C3%A4rda CK":MAILTO:info@vck.se
END:VEVENT
BEGIN:VEVENT
DTSTART;TZID=Europe/Stockholm:20240505T120000
DTEND;TZID=Europe/Stockholm:20240505T160000
DTSTAMP:20260420T131303
CREATED:20240307T112313Z
LAST-MODIFIED:20240505T084349Z
UID:4620-1714910400-1714924800@vck.se
SUMMARY:Träningsvärd Emil Gustavsson.
DESCRIPTION:Emil 076-311 67 17.
URL:https://vck.se/event/traningsvard-emil-gustavsson-2/
LOCATION:Rövaredalen\, Grämnamåla 201\, Vissefjärda\, 361 96\, Sverige
CATEGORIES:Alla medlemmar,Rövaredalen,Träningsvärd
ORGANIZER;CN="Vissefj%C3%A4rda CK":MAILTO:info@vck.se
END:VEVENT
BEGIN:VEVENT
DTSTART;TZID=Europe/Stockholm:20240508T170000
DTEND;TZID=Europe/Stockholm:20240508T200000
DTSTAMP:20260420T131303
CREATED:20240307T113536Z
LAST-MODIFIED:20240307T113536Z
UID:4641-1715187600-1715198400@vck.se
SUMMARY:Träningsvärd Fredrik Johansson.
DESCRIPTION:Fredrik 076-627 77 41.
URL:https://vck.se/event/traningsvard-fredrik-johansson-2/
LOCATION:Rövaredalen\, Grämnamåla 201\, Vissefjärda\, 361 96\, Sverige
CATEGORIES:Alla medlemmar,Rövaredalen,Träningsvärd
ORGANIZER;CN="Vissefj%C3%A4rda CK":MAILTO:info@vck.se
END:VEVENT
BEGIN:VEVENT
DTSTART;TZID=Europe/Stockholm:20240512T120000
DTEND;TZID=Europe/Stockholm:20240512T160000
DTSTAMP:20260420T131303
CREATED:20240307T112432Z
LAST-MODIFIED:20240307T112432Z
UID:4632-1715515200-1715529600@vck.se
SUMMARY:Träningsvärd Freddie Johansson.
DESCRIPTION:Freddie 070-631 65 27.
URL:https://vck.se/event/traningsvard-freddie-johansson-4/
LOCATION:Rövaredalen\, Grämnamåla 201\, Vissefjärda\, 361 96\, Sverige
CATEGORIES:Alla medlemmar,Rövaredalen,Träningsvärd
ORGANIZER;CN="Vissefj%C3%A4rda CK":MAILTO:info@vck.se
END:VEVENT
BEGIN:VEVENT
DTSTART;TZID=Europe/Stockholm:20240515T170000
DTEND;TZID=Europe/Stockholm:20240515T200000
DTSTAMP:20260420T131303
CREATED:20240307T113725Z
LAST-MODIFIED:20240307T113725Z
UID:4643-1715792400-1715803200@vck.se
SUMMARY:Träningsvärd Tobbe Fransson.
DESCRIPTION:Tobbe 070-866 92 64.
URL:https://vck.se/event/traningsvard-tobbe-fransson-4/
LOCATION:Rövaredalen\, Grämnamåla 201\, Vissefjärda\, 361 96\, Sverige
CATEGORIES:Alla medlemmar,Rövaredalen,Träningsvärd
ORGANIZER;CN="Vissefj%C3%A4rda CK":MAILTO:info@vck.se
END:VEVENT
BEGIN:VEVENT
DTSTART;TZID=Europe/Stockholm:20240519T120000
DTEND;TZID=Europe/Stockholm:20240519T160000
DTSTAMP:20260420T131303
CREATED:20240507T104805Z
LAST-MODIFIED:20240507T104805Z
UID:4795-1716120000-1716134400@vck.se
SUMMARY:Träningsvärd Erik Philipsson
DESCRIPTION:Erik 070-285 51 96.
URL:https://vck.se/event/traningsvard-erik-philipsson-2/
LOCATION:Rövaredalen\, Grämnamåla 201\, Vissefjärda\, 361 96\, Sverige
CATEGORIES:Alla medlemmar,Rövaredalen,Träning,Träningsvärd
ORGANIZER;CN="Vissefj%C3%A4rda CK":MAILTO:info@vck.se
END:VEVENT
BEGIN:VEVENT
DTSTART;TZID=Europe/Stockholm:20240522T170000
DTEND;TZID=Europe/Stockholm:20240522T200000
DTSTAMP:20260420T131303
CREATED:20240307T113907Z
LAST-MODIFIED:20240307T113907Z
UID:4645-1716397200-1716408000@vck.se
SUMMARY:Träningsvärd Pierre Appelqvist.
DESCRIPTION:Pierre 073-179 93 68.
URL:https://vck.se/event/traningsvard-pierre-appelqvist-6/
LOCATION:Rövaredalen\, Grämnamåla 201\, Vissefjärda\, 361 96\, Sverige
CATEGORIES:Alla medlemmar,Rövaredalen,Träningsvärd
ORGANIZER;CN="Vissefj%C3%A4rda CK":MAILTO:info@vck.se
END:VEVENT
BEGIN:VEVENT
DTSTART;TZID=Europe/Stockholm:20240526T120000
DTEND;TZID=Europe/Stockholm:20240526T160000
DTSTAMP:20260420T131303
CREATED:20240307T112901Z
LAST-MODIFIED:20240307T112901Z
UID:4636-1716724800-1716739200@vck.se
SUMMARY:Träningsvärd Niclas Duveborn.
DESCRIPTION:Niclas 073-543 22 03.
URL:https://vck.se/event/traningsvard-niclas-duveborn-2/
LOCATION:Rövaredalen\, Grämnamåla 201\, Vissefjärda\, 361 96\, Sverige
CATEGORIES:Alla medlemmar,Rövaredalen,Träningsvärd
ORGANIZER;CN="Vissefj%C3%A4rda CK":MAILTO:info@vck.se
END:VEVENT
BEGIN:VEVENT
DTSTART;TZID=Europe/Stockholm:20240529T170000
DTEND;TZID=Europe/Stockholm:20240529T200000
DTSTAMP:20260420T131303
CREATED:20240307T114033Z
LAST-MODIFIED:20240307T115912Z
UID:4647-1717002000-1717012800@vck.se
SUMMARY:Träningsvärd Alfons Stensson.
DESCRIPTION:Alfons 076-162 11 68.
URL:https://vck.se/event/traningsvard-alfon-stensson-2/
LOCATION:Rövaredalen\, Grämnamåla 201\, Vissefjärda\, 361 96\, Sverige
CATEGORIES:Alla medlemmar,Rövaredalen,Träningsvärd
ORGANIZER;CN="Vissefj%C3%A4rda CK":MAILTO:info@vck.se
END:VEVENT
BEGIN:VEVENT
DTSTART;TZID=Europe/Stockholm:20240602T120000
DTEND;TZID=Europe/Stockholm:20240602T160000
DTSTAMP:20260420T131303
CREATED:20240307T113012Z
LAST-MODIFIED:20240529T174942Z
UID:4638-1717329600-1717344000@vck.se
SUMMARY:Träningsvärd Pierre Appelqvist.
DESCRIPTION:Pierre 073-179 93 68.
URL:https://vck.se/event/traningsvard-robin-ahsberg-2/
LOCATION:Rövaredalen\, Grämnamåla 201\, Vissefjärda\, 361 96\, Sverige
CATEGORIES:Alla medlemmar,Rövaredalen,Träningsvärd
ORGANIZER;CN="Vissefj%C3%A4rda CK":MAILTO:info@vck.se
END:VEVENT
BEGIN:VEVENT
DTSTART;TZID=Europe/Stockholm:20240605T170000
DTEND;TZID=Europe/Stockholm:20240605T200000
DTSTAMP:20260420T131303
CREATED:20240307T114237Z
LAST-MODIFIED:20240307T114237Z
UID:4651-1717606800-1717617600@vck.se
SUMMARY:Träningsvärd Linus och Mattias Bergsten.
DESCRIPTION:Mattias 073-073 49 62.
URL:https://vck.se/event/traningsvard-linus-och-mattias-bergsten/
LOCATION:Rövaredalen\, Grämnamåla 201\, Vissefjärda\, 361 96\, Sverige
CATEGORIES:Alla medlemmar,Rövaredalen,Träningsvärd
ORGANIZER;CN="Vissefj%C3%A4rda CK":MAILTO:info@vck.se
END:VEVENT
BEGIN:VEVENT
DTSTART;TZID=Europe/Stockholm:20240609T120000
DTEND;TZID=Europe/Stockholm:20240609T160000
DTSTAMP:20260420T131303
CREATED:20240307T114921Z
LAST-MODIFIED:20240307T115019Z
UID:4658-1717934400-1717948800@vck.se
SUMMARY:Träningsvärd Kristian Lejon.
DESCRIPTION:Kristian 070-174 01 14.
URL:https://vck.se/event/traningsvard-kristian-lejon-4/
LOCATION:Rövaredalen\, Grämnamåla 201\, Vissefjärda\, 361 96\, Sverige
CATEGORIES:Alla medlemmar,Rövaredalen,Träningsvärd
ORGANIZER;CN="Vissefj%C3%A4rda CK":MAILTO:info@vck.se
END:VEVENT
BEGIN:VEVENT
DTSTART;TZID=Europe/Stockholm:20240612T170000
DTEND;TZID=Europe/Stockholm:20240612T200000
DTSTAMP:20260420T131303
CREATED:20240307T114422Z
LAST-MODIFIED:20240307T114422Z
UID:4640-1718211600-1718222400@vck.se
SUMMARY:Träningsvärd Joakim Nyman.
DESCRIPTION:Joakim 070-269 29 73.
URL:https://vck.se/event/traningsvard-joakim-nyman-2/
LOCATION:Rövaredalen\, Grämnamåla 201\, Vissefjärda\, 361 96\, Sverige
CATEGORIES:Alla medlemmar,Rövaredalen,Träningsvärd
ORGANIZER;CN="Vissefj%C3%A4rda CK":MAILTO:info@vck.se
END:VEVENT
BEGIN:VEVENT
DTSTART;TZID=Europe/Stockholm:20240616T120000
DTEND;TZID=Europe/Stockholm:20240616T160000
DTSTAMP:20260420T131303
CREATED:20240307T115135Z
LAST-MODIFIED:20240307T115135Z
UID:4661-1718539200-1718553600@vck.se
SUMMARY:Träningsvärd Kennie Johansson.
DESCRIPTION:Kennie 070-949 24 58.
URL:https://vck.se/event/traningsvard-kennie-johansson/
LOCATION:Rövaredalen\, Grämnamåla 201\, Vissefjärda\, 361 96\, Sverige
CATEGORIES:Alla medlemmar,Rövaredalen,Träningsvärd
ORGANIZER;CN="Vissefj%C3%A4rda CK":MAILTO:info@vck.se
END:VEVENT
BEGIN:VEVENT
DTSTART;TZID=Europe/Stockholm:20240619T170000
DTEND;TZID=Europe/Stockholm:20240619T200000
DTSTAMP:20260420T131303
CREATED:20240307T114603Z
LAST-MODIFIED:20240307T114722Z
UID:4655-1718816400-1718827200@vck.se
SUMMARY:Träningsvärd Per-Axel och Arvid Tobiazon.
DESCRIPTION:Per-Axel 070-200 87 77.
URL:https://vck.se/event/traningsvard-per-axel-och-arvid-tobiazon/
LOCATION:Rövaredalen\, Grämnamåla 201\, Vissefjärda\, 361 96\, Sverige
CATEGORIES:Alla medlemmar,Rövaredalen,Träningsvärd
ORGANIZER;CN="Vissefj%C3%A4rda CK":MAILTO:info@vck.se
END:VEVENT
BEGIN:VEVENT
DTSTART;TZID=Europe/Stockholm:20240623T120000
DTEND;TZID=Europe/Stockholm:20240623T160000
DTSTAMP:20260420T131303
CREATED:20240307T115507Z
LAST-MODIFIED:20240307T115507Z
UID:4663-1719144000-1719158400@vck.se
SUMMARY:Träningsvärd Andreas Övgård.
DESCRIPTION:Andreas 073-338 76 92.
URL:https://vck.se/event/traningsvard-andreas-ovgard-2/
LOCATION:Rövaredalen\, Grämnamåla 201\, Vissefjärda\, 361 96\, Sverige
CATEGORIES:Alla medlemmar,Rövaredalen,Träningsvärd
ORGANIZER;CN="Vissefj%C3%A4rda CK":MAILTO:info@vck.se
END:VEVENT
BEGIN:VEVENT
DTSTART;TZID=Europe/Stockholm:20240626T170000
DTEND;TZID=Europe/Stockholm:20240626T200000
DTSTAMP:20260420T131303
CREATED:20240507T130632Z
LAST-MODIFIED:20240507T130632Z
UID:4797-1719421200-1719432000@vck.se
SUMMARY:Träningsvärd Christer Bernhäll.
DESCRIPTION:Christer 070-3113543
URL:https://vck.se/event/traningsvard-christer-bernhall/
LOCATION:Rövaredalen\, Grämnamåla 201\, Vissefjärda\, 361 96\, Sverige
CATEGORIES:Alla medlemmar,Rövaredalen,Träning,Träningsvärd
ORGANIZER;CN="Vissefj%C3%A4rda CK":MAILTO:info@vck.se
END:VEVENT
BEGIN:VEVENT
DTSTART;TZID=Europe/Stockholm:20240630T120000
DTEND;TZID=Europe/Stockholm:20240630T160000
DTSTAMP:20260420T131303
CREATED:20240307T115640Z
LAST-MODIFIED:20240507T134937Z
UID:4665-1719748800-1719763200@vck.se
SUMMARY:Träningsvärd Emil Larsson.
DESCRIPTION:Emil 073-350 54 96.
URL:https://vck.se/event/traningsvard-emil-larsson-5/
LOCATION:Rövaredalen\, Grämnamåla 201\, Vissefjärda\, 361 96\, Sverige
CATEGORIES:Alla medlemmar,Rövaredalen,Träningsvärd
ORGANIZER;CN="Vissefj%C3%A4rda CK":MAILTO:info@vck.se
END:VEVENT
BEGIN:VEVENT
DTSTART;TZID=Europe/Stockholm:20240703T160000
DTEND;TZID=Europe/Stockholm:20240703T200000
DTSTAMP:20260420T131303
CREATED:20240624T114634Z
LAST-MODIFIED:20240624T114634Z
UID:4869-1720022400-1720036800@vck.se
SUMMARY:Arbetskväll i Rövaredalen kl.16.00.
DESCRIPTION:Nu är det dags att trimma gräset och röja sly runt banan.\nNi som har möjlighet kan komma vid 16.00 annars kommer du när du kan.\nMedtag gärna röjsåg\, trimmer och lite egna verktyg. \nKlubben bjuder på grillad korv och kaffe/kaka. \nBanan är öppen för träning samtidigt kl.17.00-20.00 \nVälkomna! / Styrelsen
URL:https://vck.se/event/arbetskvall-i-rovaredalen-kl-16-00/
LOCATION:Rövaredalen\, Grämnamåla 201\, Vissefjärda\, 361 96\, Sverige
CATEGORIES:Alla medlemmar,Arbetsdag,Rövaredalen
ORGANIZER;CN="Vissefj%C3%A4rda CK":MAILTO:info@vck.se
END:VEVENT
BEGIN:VEVENT
DTSTART;TZID=Europe/Stockholm:20240703T170000
DTEND;TZID=Europe/Stockholm:20240703T200000
DTSTAMP:20260420T131303
CREATED:20240507T131143Z
LAST-MODIFIED:20240507T131143Z
UID:4799-1720026000-1720036800@vck.se
SUMMARY:Träningsvärd Fredrik Johansson
DESCRIPTION:Fredrik 076-627 77 41.
URL:https://vck.se/event/traningsvard-fredrik-johansson-3/
LOCATION:Rövaredalen\, Grämnamåla 201\, Vissefjärda\, 361 96\, Sverige
CATEGORIES:Alla medlemmar,Rövaredalen,Träning,Träningsvärd
ORGANIZER;CN="Vissefj%C3%A4rda CK":MAILTO:info@vck.se
END:VEVENT
END:VCALENDAR