BEGIN:VCALENDAR
VERSION:2.0
PRODID:-//Vissefjärda CK - ECPv6.15.20//NONSGML v1.0//EN
CALSCALE:GREGORIAN
METHOD:PUBLISH
X-ORIGINAL-URL:https://vck.se
X-WR-CALDESC:Händelser för Vissefjärda CK
REFRESH-INTERVAL;VALUE=DURATION:PT1H
X-Robots-Tag:noindex
X-PUBLISHED-TTL:PT1H
BEGIN:VTIMEZONE
TZID:Europe/Stockholm
BEGIN:DAYLIGHT
TZOFFSETFROM:+0100
TZOFFSETTO:+0200
TZNAME:CEST
DTSTART:20240331T010000
END:DAYLIGHT
BEGIN:STANDARD
TZOFFSETFROM:+0200
TZOFFSETTO:+0100
TZNAME:CET
DTSTART:20241027T010000
END:STANDARD
BEGIN:DAYLIGHT
TZOFFSETFROM:+0100
TZOFFSETTO:+0200
TZNAME:CEST
DTSTART:20250330T010000
END:DAYLIGHT
BEGIN:STANDARD
TZOFFSETFROM:+0200
TZOFFSETTO:+0100
TZNAME:CET
DTSTART:20251026T010000
END:STANDARD
BEGIN:DAYLIGHT
TZOFFSETFROM:+0100
TZOFFSETTO:+0200
TZNAME:CEST
DTSTART:20260329T010000
END:DAYLIGHT
BEGIN:STANDARD
TZOFFSETFROM:+0200
TZOFFSETTO:+0100
TZNAME:CET
DTSTART:20261025T010000
END:STANDARD
BEGIN:DAYLIGHT
TZOFFSETFROM:+0100
TZOFFSETTO:+0200
TZNAME:CEST
DTSTART:20270328T010000
END:DAYLIGHT
BEGIN:STANDARD
TZOFFSETFROM:+0200
TZOFFSETTO:+0100
TZNAME:CET
DTSTART:20271031T010000
END:STANDARD
END:VTIMEZONE
BEGIN:VEVENT
DTSTART;TZID=Europe/Stockholm:20260419T120000
DTEND;TZID=Europe/Stockholm:20260419T160000
DTSTAMP:20260420T111940
CREATED:20260330T131307Z
LAST-MODIFIED:20260330T131307Z
UID:5692-1776600000-1776614400@vck.se
SUMMARY:Träningsvärd Sofie Tehagen.
DESCRIPTION:Sofie 076-828 94 20.
URL:https://vck.se/event/traningsvard-sofie-tehagen-5/
LOCATION:Rövaredalen\, Grämnamåla 201\, Vissefjärda\, 361 96\, Sverige
CATEGORIES:Alla medlemmar,Rövaredalen,Träning,Träningsvärd
ORGANIZER;CN="Vissefj%C3%A4rda CK":MAILTO:info@vck.se
END:VEVENT
BEGIN:VEVENT
DTSTART;TZID=Europe/Stockholm:20260419T090000
DTEND;TZID=Europe/Stockholm:20260419T100000
DTSTAMP:20260420T111940
CREATED:20260414T184533Z
LAST-MODIFIED:20260414T184533Z
UID:5779-1776589200-1776592800@vck.se
SUMMARY:Prova på Motocross
DESCRIPTION:Prova på Motocross\n\n\n19/4 09.00 kommer vi ha prova på motocross för barn.\nBegränsat antal platser. \nAnmäl barnen till kansli@vck.se ange telefonnr\, ålder\, vårdnadshavare och erfarenhet. \nFörst till kvarn. \nVälkomna! \n\n\nInfo
URL:https://vck.se/event/prova-pa-motocross/
LOCATION:Rövaredalen\, Grämnamåla 201\, Vissefjärda\, 361 96\, Sverige
CATEGORIES:Prova på motocross.,Rövaredalen,Träning,Utbildning
ATTACH;FMTTYPE=image/jpeg:https://vck.se/wp-content/uploads/2021/09/i283726789562290345._rsw480h480_szw480h480_1.jpg
ORGANIZER;CN="Vissefj%C3%A4rda CK":MAILTO:info@vck.se
END:VEVENT
BEGIN:VEVENT
DTSTART;TZID=Europe/Stockholm:20260415T170000
DTEND;TZID=Europe/Stockholm:20260415T200000
DTSTAMP:20260420T111940
CREATED:20260323T082759Z
LAST-MODIFIED:20260323T082759Z
UID:5648-1776272400-1776283200@vck.se
SUMMARY:Träningsvärd Lucas Jensen.
DESCRIPTION:Lucas 076-019 51 88.
URL:https://vck.se/event/traningsvard-lucas-jensen/
LOCATION:Rövaredalen\, Grämnamåla 201\, Vissefjärda\, 361 96\, Sverige
CATEGORIES:Alla medlemmar,Träning,Träningsvärd
ORGANIZER;CN="Vissefj%C3%A4rda CK":MAILTO:info@vck.se
END:VEVENT
BEGIN:VEVENT
DTSTART;TZID=Europe/Stockholm:20260412T120000
DTEND;TZID=Europe/Stockholm:20260412T160000
DTSTAMP:20260420T111940
CREATED:20260330T131137Z
LAST-MODIFIED:20260330T131137Z
UID:5690-1775995200-1776009600@vck.se
SUMMARY:Träningsvärd Christer Bernhäll.
DESCRIPTION:Christer Bernhäll 070-311 35 43.
URL:https://vck.se/event/traningsvard-christer-bernhall-8/
LOCATION:Rövaredalen\, Grämnamåla 201\, Vissefjärda\, 361 96\, Sverige
CATEGORIES:Alla medlemmar,Rövaredalen,Träning,Träningsvärd
ORGANIZER;CN="Vissefj%C3%A4rda CK":MAILTO:info@vck.se
END:VEVENT
BEGIN:VEVENT
DTSTART;TZID=Europe/Stockholm:20260412T100000
DTEND;TZID=Europe/Stockholm:20260412T120000
DTSTAMP:20260420T111940
CREATED:20260408T082119Z
LAST-MODIFIED:20260408T082119Z
UID:5749-1775988000-1775995200@vck.se
SUMMARY:Crosskolan börjar för säsongen.
DESCRIPTION:Årets ledare är Simon Jonsson\, Kennie Johansson\, Andreas Sjöberg och Joakim Nyman.\nSamling kl.10.00\, ombytta och klara. \nVi kommer dela upp i två grupper\, en på lilla banan och en på stora banan. \nAlla är hjärtligt välkomna – både nya och gamla!
URL:https://vck.se/event/crosskolan-borjar-for-sasongen/
LOCATION:Rövaredalen\, Grämnamåla 201\, Vissefjärda\, 361 96\, Sverige
CATEGORIES:Alla medlemmar,Crosskolan,Rövaredalen,Träning
ORGANIZER;CN="Vissefj%C3%A4rda CK":MAILTO:info@vck.se
END:VEVENT
BEGIN:VEVENT
DTSTART;TZID=Europe/Stockholm:20260408T170000
DTEND;TZID=Europe/Stockholm:20260408T200000
DTSTAMP:20260420T111940
CREATED:20260330T131824Z
LAST-MODIFIED:20260330T131824Z
UID:5696-1775667600-1775678400@vck.se
SUMMARY:Träningsvärd Peter Friberg.
DESCRIPTION:Peter 070-334 87 59.
URL:https://vck.se/event/traningsvard-peter-friberg-10/
LOCATION:Rövaredalen\, Grämnamåla 201\, Vissefjärda\, 361 96\, Sverige
CATEGORIES:Alla medlemmar,Rövaredalen,Träning,Träningsvärd
ORGANIZER;CN="Vissefj%C3%A4rda CK":MAILTO:info@vck.se
END:VEVENT
BEGIN:VEVENT
DTSTART;TZID=Europe/Stockholm:20260407T170000
DTEND;TZID=Europe/Stockholm:20260407T200000
DTSTAMP:20260420T111940
CREATED:20260405T004924Z
LAST-MODIFIED:20260405T004924Z
UID:5745-1775581200-1775592000@vck.se
SUMMARY:Serielagsträning
DESCRIPTION:Träning för klubbens serieförare.\nVid frågor\, kontakta Johan G.
URL:https://vck.se/event/serielagstraning/
LOCATION:Rövaredalen\, Grämnamåla 201\, Vissefjärda\, 361 96\, Sverige
CATEGORIES:Rövaredalen,Serielag,Träning
ORGANIZER;CN="Vissefj%C3%A4rda CK":MAILTO:info@vck.se
END:VEVENT
BEGIN:VEVENT
DTSTART;TZID=Europe/Stockholm:20260405T120000
DTEND;TZID=Europe/Stockholm:20260405T160000
DTSTAMP:20260420T111940
CREATED:20260330T130945Z
LAST-MODIFIED:20260330T130945Z
UID:5688-1775390400-1775404800@vck.se
SUMMARY:Träningsvärd Simon Johansson
DESCRIPTION:Simon 076-851 30 98.
URL:https://vck.se/event/traningsvard-simon-johansson-3/
LOCATION:Rövaredalen\, Grämnamåla 201\, Vissefjärda\, 361 96\, Sverige
CATEGORIES:Alla medlemmar,Rövaredalen,Träning,Träningsvärd
ORGANIZER;CN="Vissefj%C3%A4rda CK":MAILTO:info@vck.se
END:VEVENT
BEGIN:VEVENT
DTSTART;TZID=Europe/Stockholm:20260401T170000
DTEND;TZID=Europe/Stockholm:20260401T200000
DTSTAMP:20260420T111940
CREATED:20260331T105611Z
LAST-MODIFIED:20260331T175142Z
UID:5703-1775062800-1775073600@vck.se
SUMMARY:Träningsvärd Kennie
DESCRIPTION:Träningsvärd Kennie\nÖppnar 17:00 och stänger när det mörknar
URL:https://vck.se/event/traningsvard-saknas-3/
LOCATION:Rövaredalen\, Grämnamåla 201\, Vissefjärda\, 361 96\, Sverige
CATEGORIES:Rövaredalen,Träningsvärd
ORGANIZER;CN="Vissefj%C3%A4rda CK":MAILTO:info@vck.se
END:VEVENT
BEGIN:VEVENT
DTSTART;TZID=Europe/Stockholm:20260329T120000
DTEND;TZID=Europe/Stockholm:20260329T160000
DTSTAMP:20260420T111940
CREATED:20260313T122311Z
LAST-MODIFIED:20260313T122311Z
UID:5633-1774785600-1774800000@vck.se
SUMMARY:Premiär! Idag öppnar vi banan för säsongen.
DESCRIPTION:Öppettider: 12.00-16.00\nVälkomna!
URL:https://vck.se/event/premiar-idag-oppnar-vi-banan-for-sasongen/
LOCATION:Rövaredalen\, Grämnamåla 201\, Vissefjärda\, 361 96\, Sverige
CATEGORIES:Alla medlemmar,Rövaredalen,Träning
ORGANIZER;CN="Vissefj%C3%A4rda CK":MAILTO:info@vck.se
END:VEVENT
BEGIN:VEVENT
DTSTART;VALUE=DATE:20260328
DTEND;VALUE=DATE:20260329
DTSTAMP:20260420T111940
CREATED:20260313T122037Z
LAST-MODIFIED:20260319T095746Z
UID:5631-1774656000-1774742399@vck.se
SUMMARY:9.00 Arbetsdag och crossträning.
DESCRIPTION:Nu är det dags att göra i ordning anläggningen inför säsongsöppningen.\nTa gärna med lite egna verktyg.\nVi börjar med arbetsdagen kl.9.00 och när vi är klara är banan öppen för träning för er som har hjälpt till.\nKlubben bjuder på grillad korv vid 12-tiden.\nVälkomna!
URL:https://vck.se/event/arbetsdag-och-crosstraning/
LOCATION:Rövaredalen\, Grämnamåla 201\, Vissefjärda\, 361 96\, Sverige
CATEGORIES:Alla medlemmar,Rövaredalen,Träning
ORGANIZER;CN="Vissefj%C3%A4rda CK":MAILTO:info@vck.se
END:VEVENT
BEGIN:VEVENT
DTSTART;TZID=Europe/Stockholm:20260228T170000
DTEND;TZID=Europe/Stockholm:20260228T213000
DTSTAMP:20260420T111940
CREATED:20251230T095347Z
LAST-MODIFIED:20260206T130213Z
UID:5569-1772298000-1772314200@vck.se
SUMMARY:Årsmöte och årsfest i Bromboda bygdegård.
DESCRIPTION:Välkomna till Vissefjärda Crossklubbs årsmöte och årsfest! \nBromboda Bygdegård lördagen den 28/2 kl.17.00 \nVi börjar med årsmötet därefter är det årsfest med prisutdelning och mat från restaurang En trappa upp.\n(Priser delas ut till medlemmar med licens i klubben.) \nMeny \nHelstekt ryggbiff/entrecoté\nÖländsk kycklingstek\nPrästostgratinerad potatis & purjolöksgratäng.\nCaesarsallad\, rostade betor\nBearnaisesås\, vispat vitlöks & örtsmör\, surdegslevain. \nKaffe och kaka. \nVuxna 175: –\nBarn tom 12 år 125: –\nBarn tom 6 år gratis. \nAnmälan och betalning till kansli@vck.se senast den 21/2. Swish 123 553 38 07. \nVar med och påverka din Motocrossklubb.
URL:https://vck.se/event/arsmote-och-arsfest-i-bromboda-bygdegard/
LOCATION:Bromboda Bygdegård
CATEGORIES:Alla medlemmar,Årsfest,Årsmöte
ORGANIZER;CN="Vissefj%C3%A4rda CK":MAILTO:info@vck.se
END:VEVENT
BEGIN:VEVENT
DTSTART;TZID=Europe/Stockholm:20260121T180000
DTEND;TZID=Europe/Stockholm:20260121T203000
DTSTAMP:20260420T111940
CREATED:20251128T092608Z
LAST-MODIFIED:20251128T092813Z
UID:5540-1769018400-1769027400@vck.se
SUMMARY:Världens bästa idrottsförälder.
DESCRIPTION:I kväll kl. 18.00 kommer Tobias från RF-Sisu till klubbstugan och håller utbildningen Världens bästa idrotts förälder.\nUtbildningen är för föräldrar med barn som är anmälda till Guldhjälmslicensutbildningen.\nUtbildningen är bara för föräldrarna inte barnen.\nHar ni några frågor hör av er till kansli@vck.se \nVälkomna! \n 
URL:https://vck.se/event/varldens-basta-idrottsforalder/
LOCATION:Rövaredalen\, Grämnamåla 201\, Vissefjärda\, 361 96\, Sverige
CATEGORIES:Alla medlemmar,Crosskolan,GH/licensutbildning.,Rövaredalen,Utbildning
ORGANIZER;CN="Vissefj%C3%A4rda CK":MAILTO:info@vck.se
END:VEVENT
BEGIN:VEVENT
DTSTART;TZID=Europe/Stockholm:20251109T120000
DTEND;TZID=Europe/Stockholm:20251109T160000
DTSTAMP:20260420T111940
CREATED:20251109T073017Z
LAST-MODIFIED:20251109T073104Z
UID:5532-1762689600-1762704000@vck.se
SUMMARY:Träningsvärd Kennie Johansson
DESCRIPTION:Träningsvärd Kennie Johansson
URL:https://vck.se/event/traningsvard-kennie-johansson-5/
LOCATION:Rövaredalen\, Grämnamåla 201\, Vissefjärda\, 361 96\, Sverige
CATEGORIES:Rövaredalen,Träningsvärd
ORGANIZER;CN="Vissefj%C3%A4rda CK":MAILTO:info@vck.se
END:VEVENT
BEGIN:VEVENT
DTSTART;TZID=Europe/Stockholm:20251102T120000
DTEND;TZID=Europe/Stockholm:20251102T160000
DTSTAMP:20260420T111940
CREATED:20251031T082815Z
LAST-MODIFIED:20251101T063228Z
UID:5522-1762084800-1762099200@vck.se
SUMMARY:Träningsvärd C-E Övgård.
DESCRIPTION:Träningsvärd C-E Övgård.\nCarl-Erik ställer upp som träningsvärd nu på söndag den 2/11. \nCarl-Erik \n070-5470158
URL:https://vck.se/event/traningsvard-c-e-ovgard-3/
LOCATION:Rövaredalen\, Grämnamåla 201\, Vissefjärda\, 361 96\, Sverige
CATEGORIES:Alla medlemmar,Rövaredalen,Träning,Träningsvärd
ORGANIZER;CN="Vissefj%C3%A4rda CK":MAILTO:info@vck.se
END:VEVENT
BEGIN:VEVENT
DTSTART;TZID=Europe/Stockholm:20251029T110000
DTEND;TZID=Europe/Stockholm:20251029T140000
DTSTAMP:20260420T111940
CREATED:20251028T153948Z
LAST-MODIFIED:20251028T153948Z
UID:5519-1761735600-1761746400@vck.se
SUMMARY:Träningsvärdar Loke Danielsson och Felix Friberg.
DESCRIPTION:
URL:https://vck.se/event/traningsvardar-loke-danielsson-och-felix-friberg/
LOCATION:Rövaredalen\, Grämnamåla 201\, Vissefjärda\, 361 96\, Sverige
CATEGORIES:Alla medlemmar,Träning,Träningsvärd
ORGANIZER;CN="Vissefj%C3%A4rda CK":MAILTO:info@vck.se
END:VEVENT
BEGIN:VEVENT
DTSTART;TZID=Europe/Stockholm:20251022T110000
DTEND;TZID=Europe/Stockholm:20251022T150000
DTSTAMP:20260420T111940
CREATED:20250930T093535Z
LAST-MODIFIED:20251021T092046Z
UID:5433-1761130800-1761145200@vck.se
SUMMARY:Träningsvärd P-A Arvidsson
DESCRIPTION:Träningsvärd P-A Arvidsson \n070-9266853 \n11:00-15:00
URL:https://vck.se/event/traningsvard-p-a-arvidsson/
LOCATION:Rövaredalen\, Grämnamåla 201\, Vissefjärda\, 361 96\, Sverige
CATEGORIES:Alla medlemmar,Träning,Träningsvärd
ORGANIZER;CN="Vissefj%C3%A4rda CK":MAILTO:info@vck.se
END:VEVENT
BEGIN:VEVENT
DTSTART;TZID=Europe/Stockholm:20251019T120000
DTEND;TZID=Europe/Stockholm:20251019T160000
DTSTAMP:20260420T111940
CREATED:20251017T131317Z
LAST-MODIFIED:20251017T131317Z
UID:5501-1760875200-1760889600@vck.se
SUMMARY:Träningsvärd saknas. Är du medlem och vill ställa upp?
DESCRIPTION:På söndag den 19/10 har vi ingen träningsvärd uppsatt.\nVill du vara träningsvärd hör du av dig till kansli@vck.se senast kl.18.00 på fredag den 17/10. \n 
URL:https://vck.se/event/traningsvard-saknas-ar-du-medlem-och-vill-stalla-upp/
LOCATION:Rövaredalen\, Grämnamåla 201\, Vissefjärda\, 361 96\, Sverige
CATEGORIES:Alla medlemmar,Rövaredalen,Träning,Träningsvärd
ORGANIZER;CN="Vissefj%C3%A4rda CK":MAILTO:info@vck.se
END:VEVENT
BEGIN:VEVENT
DTSTART;VALUE=DATE:20251018
DTEND;VALUE=DATE:20251019
DTSTAMP:20260420T111940
CREATED:20250519T111829Z
LAST-MODIFIED:20250930T111728Z
UID:5277-1760745600-1760831999@vck.se
SUMMARY:Stubbrace\, Glasholm
DESCRIPTION:Info på hemsidan \nHitta banan
URL:https://vck.se/event/stubbrace-glasholm/
LOCATION:Glasholmen 2:29\, Glasholmsvägen\, Söderåkra\, Sweden
CATEGORIES:Alla medlemmar,Rövaredalen,Stubbrace,Tävling
ORGANIZER;CN="Vissefj%C3%A4rda CK":MAILTO:info@vck.se
END:VEVENT
BEGIN:VEVENT
DTSTART;TZID=Europe/Stockholm:20251015T110000
DTEND;TZID=Europe/Stockholm:20251015T150000
DTSTAMP:20260420T111940
CREATED:20251013T082342Z
LAST-MODIFIED:20251013T082342Z
UID:5477-1760526000-1760540400@vck.se
SUMMARY:Träningsvärd Sofie Tehagen.
DESCRIPTION:Sofie 076-828 94 20.
URL:https://vck.se/event/traningsvard-sofie-tehagen-3/
LOCATION:Rövaredalen\, Grämnamåla 201\, Vissefjärda\, 361 96\, Sverige
CATEGORIES:Alla medlemmar,Rövaredalen,Träning,Träningsvärd
ORGANIZER;CN="Vissefj%C3%A4rda CK":MAILTO:info@vck.se
END:VEVENT
BEGIN:VEVENT
DTSTART;TZID=Europe/Stockholm:20251012T120000
DTEND;TZID=Europe/Stockholm:20251012T160000
DTSTAMP:20260420T111940
CREATED:20250922T063133Z
LAST-MODIFIED:20250922T063133Z
UID:5394-1760270400-1760284800@vck.se
SUMMARY:Träningsvärd Daniel Dimtsas.
DESCRIPTION:Daniel 070-887 03 68.
URL:https://vck.se/event/traningsvard-daniel-dimtsas-4/
LOCATION:Rövaredalen\, Grämnamåla 201\, Vissefjärda\, 361 96\, Sverige
CATEGORIES:Alla medlemmar,Rövaredalen,Träning,Träningsvärd
ORGANIZER;CN="Vissefj%C3%A4rda CK":MAILTO:info@vck.se
END:VEVENT
BEGIN:VEVENT
DTSTART;VALUE=DATE:20251011
DTEND;VALUE=DATE:20251012
DTSTAMP:20260420T111940
CREATED:20250519T111935Z
LAST-MODIFIED:20250930T111858Z
UID:5279-1760140800-1760227199@vck.se
SUMMARY:Klubbmästerskap
DESCRIPTION:Info på hemsidan
URL:https://vck.se/event/klubbmasterskap-4/
LOCATION:Rövaredalen\, Grämnamåla 201\, Vissefjärda\, 361 96\, Sverige
CATEGORIES:Alla medlemmar,Klubbmästerskap,Rövaredalen,Tävling
ORGANIZER;CN="Vissefj%C3%A4rda CK":MAILTO:info@vck.se
END:VEVENT
BEGIN:VEVENT
DTSTART;TZID=Europe/Stockholm:20251008T110000
DTEND;TZID=Europe/Stockholm:20251008T140000
DTSTAMP:20260420T111940
CREATED:20251007T102358Z
LAST-MODIFIED:20251007T102358Z
UID:5450-1759921200-1759932000@vck.se
SUMMARY:Banan är öppen 11-14\, träningsvärd Alexander Blomqvist.
DESCRIPTION:Alexander 070-668 60 33.
URL:https://vck.se/event/banan-ar-oppen-11-14-traningsvard-alexander-blomqvist/
LOCATION:Rövaredalen\, Grämnamåla 201\, Vissefjärda\, 361 96\, Sverige
CATEGORIES:Alla medlemmar,Rövaredalen,Träning,Träningsvärd
ORGANIZER;CN="Vissefj%C3%A4rda CK":MAILTO:info@vck.se
END:VEVENT
BEGIN:VEVENT
DTSTART;TZID=Europe/Stockholm:20251005T120000
DTEND;TZID=Europe/Stockholm:20251005T160000
DTSTAMP:20260420T111940
CREATED:20250813T074038Z
LAST-MODIFIED:20250813T074038Z
UID:5358-1759665600-1759680000@vck.se
SUMMARY:Träningsvärd Alexander Blomqvist.
DESCRIPTION:Alexander 070-668 60 33.
URL:https://vck.se/event/traningsvard-alexander-blomqvist/
LOCATION:Rövaredalen\, Grämnamåla 201\, Vissefjärda\, 361 96\, Sverige
CATEGORIES:Alla medlemmar,Rövaredalen,Träning,Träningsvärd
ORGANIZER;CN="Vissefj%C3%A4rda CK":MAILTO:info@vck.se
END:VEVENT
BEGIN:VEVENT
DTSTART;TZID=Europe/Stockholm:20251001T110000
DTEND;TZID=Europe/Stockholm:20251001T150000
DTSTAMP:20260420T111940
CREATED:20250930T093334Z
LAST-MODIFIED:20250930T093334Z
UID:5428-1759316400-1759330800@vck.se
SUMMARY:Vintertid\, öppet 11-15 om någon anmäler sig som träningsvärd.
DESCRIPTION:Vintertid!\nMedlemmar som vill träna är välkomna att anmäla sig som träningsvärdar och hålla öppet onsdagar 11-15.\nHör av dig till kansli@vck.se senast tisdag kl.12.00.
URL:https://vck.se/event/vintertid-oppet-11-15-om-nagon-anmaler-sig-som-traningsvard/
LOCATION:Rövaredalen\, Grämnamåla 201\, Vissefjärda\, 361 96\, Sverige
CATEGORIES:Alla medlemmar,Träning,Träningsvärd
ORGANIZER;CN="Vissefj%C3%A4rda CK":MAILTO:info@vck.se
END:VEVENT
BEGIN:VEVENT
DTSTART;TZID=Europe/Stockholm:20250928T120000
DTEND;TZID=Europe/Stockholm:20250928T160000
DTSTAMP:20260420T111940
CREATED:20250519T111551Z
LAST-MODIFIED:20250927T164830Z
UID:5275-1759060800-1759075200@vck.se
SUMMARY:Pierre Appelqvist träningsvärd.
DESCRIPTION:Pierre 073-179 93 68.
URL:https://vck.se/event/traningsvard-fredrik-eklund-2/
LOCATION:Rövaredalen\, Grämnamåla 201\, Vissefjärda\, 361 96\, Sverige
CATEGORIES:Alla medlemmar,Rövaredalen,Träning,Träningsvärd
ORGANIZER;CN="Vissefj%C3%A4rda CK":MAILTO:info@vck.se
END:VEVENT
BEGIN:VEVENT
DTSTART;TZID=Europe/Stockholm:20250924T170000
DTEND;TZID=Europe/Stockholm:20250924T200000
DTSTAMP:20260420T111940
CREATED:20250519T111329Z
LAST-MODIFIED:20250922T063323Z
UID:5273-1758733200-1758744000@vck.se
SUMMARY:Träningsvärdar Fredrik Ideström och Johan Svensson.
DESCRIPTION:Fredrik 076-196 69 55\, Johan 072-211 11 55.
URL:https://vck.se/event/traningsvard-fredrik-idestrom/
LOCATION:Rövaredalen\, Grämnamåla 201\, Vissefjärda\, 361 96\, Sverige
CATEGORIES:Alla medlemmar,Rövaredalen,Träning,Träningsvärd
ORGANIZER;CN="Vissefj%C3%A4rda CK":MAILTO:info@vck.se
END:VEVENT
BEGIN:VEVENT
DTSTART;TZID=Europe/Stockholm:20250921T120000
DTEND;TZID=Europe/Stockholm:20250921T160000
DTSTAMP:20260420T111940
CREATED:20250616T163310Z
LAST-MODIFIED:20250616T163310Z
UID:5317-1758456000-1758470400@vck.se
SUMMARY:Träningsvärd Linus Östergren.
DESCRIPTION:Linus 070-291 30 21.
URL:https://vck.se/event/traningsvard-linus-ostergren/
LOCATION:Rövaredalen\, Grämnamåla 201\, Vissefjärda\, 361 96\, Sverige
CATEGORIES:Alla medlemmar,Rövaredalen,Träning,Träningsvärd
ORGANIZER;CN="Vissefj%C3%A4rda CK":MAILTO:info@vck.se
END:VEVENT
BEGIN:VEVENT
DTSTART;TZID=Europe/Stockholm:20250917T170000
DTEND;TZID=Europe/Stockholm:20250917T200000
DTSTAMP:20260420T111940
CREATED:20250519T111221Z
LAST-MODIFIED:20250519T111221Z
UID:5271-1758128400-1758139200@vck.se
SUMMARY:Träningsvärd Robin Håkansson.
DESCRIPTION:Robin 070-610 70 82.
URL:https://vck.se/event/traningsvard-robin-hakansson/
LOCATION:Rövaredalen\, Grämnamåla 201\, Vissefjärda\, 361 96\, Sverige
CATEGORIES:Alla medlemmar,Rövaredalen,Träning,Träningsvärd
ORGANIZER;CN="Vissefj%C3%A4rda CK":MAILTO:info@vck.se
END:VEVENT
BEGIN:VEVENT
DTSTART;TZID=Europe/Stockholm:20250914T120000
DTEND;TZID=Europe/Stockholm:20250914T160000
DTSTAMP:20260420T111940
CREATED:20250519T110425Z
LAST-MODIFIED:20250812T065800Z
UID:5266-1757851200-1757865600@vck.se
SUMMARY:Träningsvärd Fredrik Frid.
DESCRIPTION:Fredrik 073-544 22 59.
URL:https://vck.se/event/traningsvard-fredrik-frid-6/
LOCATION:Rövaredalen\, Grämnamåla 201\, Vissefjärda\, 361 96\, Sverige
CATEGORIES:Alla medlemmar,Rövaredalen,Träning,Träningsvärd
ORGANIZER;CN="Vissefj%C3%A4rda CK":MAILTO:info@vck.se
END:VEVENT
END:VCALENDAR