BEGIN:VCALENDAR
VERSION:2.0
PRODID:-//Vissefjärda CK - ECPv6.15.20//NONSGML v1.0//EN
CALSCALE:GREGORIAN
METHOD:PUBLISH
X-WR-CALNAME:Vissefjärda CK
X-ORIGINAL-URL:https://vck.se
X-WR-CALDESC:Händelser för Vissefjärda CK
REFRESH-INTERVAL;VALUE=DURATION:PT1H
X-Robots-Tag:noindex
X-PUBLISHED-TTL:PT1H
BEGIN:VTIMEZONE
TZID:Europe/Stockholm
BEGIN:DAYLIGHT
TZOFFSETFROM:+0100
TZOFFSETTO:+0200
TZNAME:CEST
DTSTART:20250330T010000
END:DAYLIGHT
BEGIN:STANDARD
TZOFFSETFROM:+0200
TZOFFSETTO:+0100
TZNAME:CET
DTSTART:20251026T010000
END:STANDARD
BEGIN:DAYLIGHT
TZOFFSETFROM:+0100
TZOFFSETTO:+0200
TZNAME:CEST
DTSTART:20260329T010000
END:DAYLIGHT
BEGIN:STANDARD
TZOFFSETFROM:+0200
TZOFFSETTO:+0100
TZNAME:CET
DTSTART:20261025T010000
END:STANDARD
BEGIN:DAYLIGHT
TZOFFSETFROM:+0100
TZOFFSETTO:+0200
TZNAME:CEST
DTSTART:20270328T010000
END:DAYLIGHT
BEGIN:STANDARD
TZOFFSETFROM:+0200
TZOFFSETTO:+0100
TZNAME:CET
DTSTART:20271031T010000
END:STANDARD
END:VTIMEZONE
BEGIN:VEVENT
DTSTART;TZID=Europe/Stockholm:20260121T180000
DTEND;TZID=Europe/Stockholm:20260121T203000
DTSTAMP:20260419T145229
CREATED:20251128T092608Z
LAST-MODIFIED:20251128T092813Z
UID:5540-1769018400-1769027400@vck.se
SUMMARY:Världens bästa idrottsförälder.
DESCRIPTION:I kväll kl. 18.00 kommer Tobias från RF-Sisu till klubbstugan och håller utbildningen Världens bästa idrotts förälder.\nUtbildningen är för föräldrar med barn som är anmälda till Guldhjälmslicensutbildningen.\nUtbildningen är bara för föräldrarna inte barnen.\nHar ni några frågor hör av er till kansli@vck.se \nVälkomna! \n 
URL:https://vck.se/event/varldens-basta-idrottsforalder/
LOCATION:Rövaredalen\, Grämnamåla 201\, Vissefjärda\, 361 96\, Sverige
CATEGORIES:Alla medlemmar,Crosskolan,GH/licensutbildning.,Rövaredalen,Utbildning
ORGANIZER;CN="Vissefj%C3%A4rda CK":MAILTO:info@vck.se
END:VEVENT
END:VCALENDAR