BEGIN:VCALENDAR
VERSION:2.0
PRODID:-//Vissefjärda CK - ECPv6.15.20//NONSGML v1.0//EN
CALSCALE:GREGORIAN
METHOD:PUBLISH
X-ORIGINAL-URL:https://vck.se
X-WR-CALDESC:Händelser för Vissefjärda CK
REFRESH-INTERVAL;VALUE=DURATION:PT1H
X-Robots-Tag:noindex
X-PUBLISHED-TTL:PT1H
BEGIN:VTIMEZONE
TZID:Europe/Stockholm
BEGIN:DAYLIGHT
TZOFFSETFROM:+0100
TZOFFSETTO:+0200
TZNAME:CEST
DTSTART:20230326T010000
END:DAYLIGHT
BEGIN:STANDARD
TZOFFSETFROM:+0200
TZOFFSETTO:+0100
TZNAME:CET
DTSTART:20231029T010000
END:STANDARD
BEGIN:DAYLIGHT
TZOFFSETFROM:+0100
TZOFFSETTO:+0200
TZNAME:CEST
DTSTART:20240331T010000
END:DAYLIGHT
BEGIN:STANDARD
TZOFFSETFROM:+0200
TZOFFSETTO:+0100
TZNAME:CET
DTSTART:20241027T010000
END:STANDARD
BEGIN:DAYLIGHT
TZOFFSETFROM:+0100
TZOFFSETTO:+0200
TZNAME:CEST
DTSTART:20250330T010000
END:DAYLIGHT
BEGIN:STANDARD
TZOFFSETFROM:+0200
TZOFFSETTO:+0100
TZNAME:CET
DTSTART:20251026T010000
END:STANDARD
END:VTIMEZONE
BEGIN:VEVENT
DTSTART;TZID=Europe/Stockholm:20240804T120000
DTEND;TZID=Europe/Stockholm:20240804T160000
DTSTAMP:20260420T070710
CREATED:20240507T134402Z
LAST-MODIFIED:20240507T134402Z
UID:4826-1722772800-1722787200@vck.se
SUMMARY:Träningsvärd Daniel Dimtsas.
DESCRIPTION:Daniel 070-887 03 68.
URL:https://vck.se/event/traningsvard-daniel-dimtsas/
LOCATION:Rövaredalen\, Grämnamåla 201\, Vissefjärda\, 361 96\, Sverige
CATEGORIES:Alla medlemmar,Rövaredalen,Träning,Träningsvärd
ORGANIZER;CN="Vissefj%C3%A4rda CK":MAILTO:info@vck.se
END:VEVENT
BEGIN:VEVENT
DTSTART;TZID=Europe/Stockholm:20240807T170000
DTEND;TZID=Europe/Stockholm:20240807T200000
DTSTAMP:20260420T070710
CREATED:20240507T133701Z
LAST-MODIFIED:20240507T133701Z
UID:4818-1723050000-1723060800@vck.se
SUMMARY:Träningsvärd Andreas Danielsson.
DESCRIPTION:Andreas 070-231 06 76.
URL:https://vck.se/event/traningsvard-andreas-danielsson-2/
LOCATION:Rövaredalen\, Grämnamåla 201\, Vissefjärda\, 361 96\, Sverige
CATEGORIES:Alla medlemmar,Rövaredalen,Träning,Träningsvärd
ORGANIZER;CN="Vissefj%C3%A4rda CK":MAILTO:info@vck.se
END:VEVENT
BEGIN:VEVENT
DTSTART;TZID=Europe/Stockholm:20240811T120000
DTEND;TZID=Europe/Stockholm:20240811T160000
DTSTAMP:20260420T070710
CREATED:20240507T134551Z
LAST-MODIFIED:20240806T100733Z
UID:4828-1723377600-1723392000@vck.se
SUMMARY:Träningsvärd Alfons Josefsson.
DESCRIPTION:Alfons 073-536 05 66.
URL:https://vck.se/event/traningsvard-jan-drevfors/
LOCATION:Rövaredalen\, Grämnamåla 201\, Vissefjärda\, 361 96\, Sverige
CATEGORIES:Alla medlemmar,Rövaredalen,Träning,Träningsvärd
ORGANIZER;CN="Vissefj%C3%A4rda CK":MAILTO:info@vck.se
END:VEVENT
BEGIN:VEVENT
DTSTART;TZID=Europe/Stockholm:20240814T170000
DTEND;TZID=Europe/Stockholm:20240814T200000
DTSTAMP:20260420T070710
CREATED:20240507T133911Z
LAST-MODIFIED:20240507T133911Z
UID:4820-1723654800-1723665600@vck.se
SUMMARY:Träningsvärd Philip Sunesson.
DESCRIPTION:Philip 076-394 66 39.
URL:https://vck.se/event/traningsvard-philip-sunesson-2/
LOCATION:Rövaredalen\, Grämnamåla 201\, Vissefjärda\, 361 96\, Sverige
CATEGORIES:Alla medlemmar,Rövaredalen,Träning,Träningsvärd
ORGANIZER;CN="Vissefj%C3%A4rda CK":MAILTO:info@vck.se
END:VEVENT
BEGIN:VEVENT
DTSTART;TZID=Europe/Stockholm:20240818T120000
DTEND;TZID=Europe/Stockholm:20240818T160000
DTSTAMP:20260420T070710
CREATED:20240507T134657Z
LAST-MODIFIED:20240507T134657Z
UID:4830-1723982400-1723996800@vck.se
SUMMARY:Träningsvärd Robin Åhsberg.
DESCRIPTION:Robin 070-921 17 81.
URL:https://vck.se/event/traningsvard-robin-ahsberg-4/
LOCATION:Rövaredalen\, Grämnamåla 201\, Vissefjärda\, 361 96\, Sverige
CATEGORIES:Alla medlemmar,Rövaredalen,Träning,Träningsvärd
ORGANIZER;CN="Vissefj%C3%A4rda CK":MAILTO:info@vck.se
END:VEVENT
BEGIN:VEVENT
DTSTART;TZID=Europe/Stockholm:20240821T170000
DTEND;TZID=Europe/Stockholm:20240821T200000
DTSTAMP:20260420T070710
CREATED:20240507T134014Z
LAST-MODIFIED:20240507T134014Z
UID:4822-1724259600-1724270400@vck.se
SUMMARY:Träningsvärd Andreas Gunnarsson.
DESCRIPTION:Andreas 070-286 17 31.
URL:https://vck.se/event/traningsvard-andreas-gunnarsson/
LOCATION:Rövaredalen\, Grämnamåla 201\, Vissefjärda\, 361 96\, Sverige
CATEGORIES:Alla medlemmar,Rövaredalen,Träning,Träningsvärd
ORGANIZER;CN="Vissefj%C3%A4rda CK":MAILTO:info@vck.se
END:VEVENT
BEGIN:VEVENT
DTSTART;TZID=Europe/Stockholm:20240825T120000
DTEND;TZID=Europe/Stockholm:20240825T160000
DTSTAMP:20260420T070710
CREATED:20240507T134747Z
LAST-MODIFIED:20240507T134747Z
UID:4832-1724587200-1724601600@vck.se
SUMMARY:Träningsvärd Jonas Svensson.
DESCRIPTION:Robin 070-647 77 58.
URL:https://vck.se/event/traningsvard-jonas-svensson-5/
LOCATION:Rövaredalen\, Grämnamåla 201\, Vissefjärda\, 361 96\, Sverige
CATEGORIES:Alla medlemmar,Rövaredalen,Träning,Träningsvärd
ORGANIZER;CN="Vissefj%C3%A4rda CK":MAILTO:info@vck.se
END:VEVENT
BEGIN:VEVENT
DTSTART;TZID=Europe/Stockholm:20240828T170000
DTEND;TZID=Europe/Stockholm:20240828T200000
DTSTAMP:20260420T070710
CREATED:20240507T134156Z
LAST-MODIFIED:20240507T135436Z
UID:4824-1724864400-1724875200@vck.se
SUMMARY:Träningsvärd Jimmy Christiansen.
DESCRIPTION:Jimmy 070-814 43 31.
URL:https://vck.se/event/traningsvard-jimmy-christiansen-2/
LOCATION:Rövaredalen\, Grämnamåla 201\, Vissefjärda\, 361 96\, Sverige
CATEGORIES:Alla medlemmar,Rövaredalen,Träning,Träningsvärd
ORGANIZER;CN="Vissefj%C3%A4rda CK":MAILTO:info@vck.se
END:VEVENT
END:VCALENDAR