BEGIN:VCALENDAR
VERSION:2.0
PRODID:-//Vissefjärda CK - ECPv6.15.20//NONSGML v1.0//EN
CALSCALE:GREGORIAN
METHOD:PUBLISH
X-WR-CALNAME:Vissefjärda CK
X-ORIGINAL-URL:https://vck.se
X-WR-CALDESC:Händelser för Vissefjärda CK
REFRESH-INTERVAL;VALUE=DURATION:PT1H
X-Robots-Tag:noindex
X-PUBLISHED-TTL:PT1H
BEGIN:VTIMEZONE
TZID:Europe/Stockholm
BEGIN:DAYLIGHT
TZOFFSETFROM:+0100
TZOFFSETTO:+0200
TZNAME:CEST
DTSTART:20230326T010000
END:DAYLIGHT
BEGIN:STANDARD
TZOFFSETFROM:+0200
TZOFFSETTO:+0100
TZNAME:CET
DTSTART:20231029T010000
END:STANDARD
BEGIN:DAYLIGHT
TZOFFSETFROM:+0100
TZOFFSETTO:+0200
TZNAME:CEST
DTSTART:20240331T010000
END:DAYLIGHT
BEGIN:STANDARD
TZOFFSETFROM:+0200
TZOFFSETTO:+0100
TZNAME:CET
DTSTART:20241027T010000
END:STANDARD
BEGIN:DAYLIGHT
TZOFFSETFROM:+0100
TZOFFSETTO:+0200
TZNAME:CEST
DTSTART:20250330T010000
END:DAYLIGHT
BEGIN:STANDARD
TZOFFSETFROM:+0200
TZOFFSETTO:+0100
TZNAME:CET
DTSTART:20251026T010000
END:STANDARD
END:VTIMEZONE
BEGIN:VEVENT
DTSTART;TZID=Europe/Stockholm:20240703T170000
DTEND;TZID=Europe/Stockholm:20240703T200000
DTSTAMP:20260420T051444
CREATED:20240507T131143Z
LAST-MODIFIED:20240507T131143Z
UID:4799-1720026000-1720036800@vck.se
SUMMARY:Träningsvärd Fredrik Johansson
DESCRIPTION:Fredrik 076-627 77 41.
URL:https://vck.se/event/traningsvard-fredrik-johansson-3/
LOCATION:Rövaredalen\, Grämnamåla 201\, Vissefjärda\, 361 96\, Sverige
CATEGORIES:Alla medlemmar,Rövaredalen,Träning,Träningsvärd
ORGANIZER;CN="Vissefj%C3%A4rda CK":MAILTO:info@vck.se
END:VEVENT
BEGIN:VEVENT
DTSTART;TZID=Europe/Stockholm:20240707T120000
DTEND;TZID=Europe/Stockholm:20240707T160000
DTSTAMP:20260420T051444
CREATED:20240507T132537Z
LAST-MODIFIED:20240529T175046Z
UID:4810-1720353600-1720368000@vck.se
SUMMARY:Träningsvärd Robin Åhsberg.
DESCRIPTION:Robin 070-921 17 81. \n 
URL:https://vck.se/event/traningsvard-pierre-appelqvist-7/
LOCATION:Rövaredalen\, Grämnamåla 201\, Vissefjärda\, 361 96\, Sverige
CATEGORIES:Alla medlemmar,Rövaredalen,Träning,Träningsvärd
ORGANIZER;CN="Vissefj%C3%A4rda CK":MAILTO:info@vck.se
END:VEVENT
BEGIN:VEVENT
DTSTART;TZID=Europe/Stockholm:20240710T170000
DTEND;TZID=Europe/Stockholm:20240710T200000
DTSTAMP:20260420T051444
CREATED:20240507T131251Z
LAST-MODIFIED:20240507T131251Z
UID:4801-1720630800-1720641600@vck.se
SUMMARY:Träningsvärd Freddie Johansson.
DESCRIPTION:Freddie 070-631 65 27.
URL:https://vck.se/event/traningsvard-freddie-johansson-5/
LOCATION:Rövaredalen\, Grämnamåla 201\, Vissefjärda\, 361 96\, Sverige
CATEGORIES:Alla medlemmar,Rövaredalen,Träning,Träningsvärd
ORGANIZER;CN="Vissefj%C3%A4rda CK":MAILTO:info@vck.se
END:VEVENT
BEGIN:VEVENT
DTSTART;TZID=Europe/Stockholm:20240714T120000
DTEND;TZID=Europe/Stockholm:20240714T160000
DTSTAMP:20260420T051444
CREATED:20240507T132713Z
LAST-MODIFIED:20240805T075550Z
UID:4812-1720958400-1720972800@vck.se
SUMMARY:Träningsvärd Tommy Axelsson.
DESCRIPTION:  \n 
URL:https://vck.se/event/traningsvard-andreas-nilsson-4/
LOCATION:Rövaredalen\, Grämnamåla 201\, Vissefjärda\, 361 96\, Sverige
CATEGORIES:Alla medlemmar,Rövaredalen,Träning,Träningsvärd
ORGANIZER;CN="Vissefj%C3%A4rda CK":MAILTO:info@vck.se
END:VEVENT
BEGIN:VEVENT
DTSTART;TZID=Europe/Stockholm:20240717T170000
DTEND;TZID=Europe/Stockholm:20240717T200000
DTSTAMP:20260420T051444
CREATED:20240507T131503Z
LAST-MODIFIED:20240507T131520Z
UID:4803-1721235600-1721246400@vck.se
SUMMARY:Träningsvärd Jimmy Christiansen.
DESCRIPTION:Jimmy 070-814 43 31.
URL:https://vck.se/event/traningsvard-jimmy-christiansen/
LOCATION:Rövaredalen\, Grämnamåla 201\, Vissefjärda\, 361 96\, Sverige
CATEGORIES:Alla medlemmar,Rövaredalen,Träning,Träningsvärd
ORGANIZER;CN="Vissefj%C3%A4rda CK":MAILTO:info@vck.se
END:VEVENT
BEGIN:VEVENT
DTSTART;TZID=Europe/Stockholm:20240721T120000
DTEND;TZID=Europe/Stockholm:20240721T160000
DTSTAMP:20260420T051444
CREATED:20240507T132845Z
LAST-MODIFIED:20240507T132845Z
UID:4814-1721563200-1721577600@vck.se
SUMMARY:Träningsvärd Stefan Skedebäck.
DESCRIPTION:Stefan 070-261 42 91. \n 
URL:https://vck.se/event/traningsvard-stefan-skedeback-5/
LOCATION:Rövaredalen\, Grämnamåla 201\, Vissefjärda\, 361 96\, Sverige
CATEGORIES:Alla medlemmar,Rövaredalen,Träning,Träningsvärd
ORGANIZER;CN="Vissefj%C3%A4rda CK":MAILTO:info@vck.se
END:VEVENT
BEGIN:VEVENT
DTSTART;TZID=Europe/Stockholm:20240724T170000
DTEND;TZID=Europe/Stockholm:20240724T200000
DTSTAMP:20260420T051444
CREATED:20240507T131850Z
LAST-MODIFIED:20240507T131850Z
UID:4806-1721840400-1721851200@vck.se
SUMMARY:Träningsvärd Johan Åkesson.
DESCRIPTION:Johan 070-358 67 79.
URL:https://vck.se/event/traningsvard-johan-akesson-2/
LOCATION:Rövaredalen\, Grämnamåla 201\, Vissefjärda\, 361 96\, Sverige
CATEGORIES:Alla medlemmar,Rövaredalen,Träning,Träningsvärd
ORGANIZER;CN="Vissefj%C3%A4rda CK":MAILTO:info@vck.se
END:VEVENT
BEGIN:VEVENT
DTSTART;TZID=Europe/Stockholm:20240728T120000
DTEND;TZID=Europe/Stockholm:20240728T160000
DTSTAMP:20260420T051444
CREATED:20240507T133050Z
LAST-MODIFIED:20240624T093202Z
UID:4816-1722168000-1722182400@vck.se
SUMMARY:Träningsvärd Nicklas Svensson.
DESCRIPTION:Nicklas 073-515 43 14. \n 
URL:https://vck.se/event/traningsvard-nicklas-svensson-4/
LOCATION:Rövaredalen\, Grämnamåla 201\, Vissefjärda\, 361 96\, Sverige
CATEGORIES:Alla medlemmar,Rövaredalen,Träning,Träningsvärd
ORGANIZER;CN="Vissefj%C3%A4rda CK":MAILTO:info@vck.se
END:VEVENT
BEGIN:VEVENT
DTSTART;TZID=Europe/Stockholm:20240731T170000
DTEND;TZID=Europe/Stockholm:20240731T200000
DTSTAMP:20260420T051444
CREATED:20240507T132203Z
LAST-MODIFIED:20240724T100201Z
UID:4808-1722445200-1722456000@vck.se
SUMMARY:Träningsvärd Janne Drevfors.
DESCRIPTION:Janne 076-2528120.
URL:https://vck.se/event/traningsvard-axel-svensson/
LOCATION:Rövaredalen\, Grämnamåla 201\, Vissefjärda\, 361 96\, Sverige
CATEGORIES:Alla medlemmar,Rövaredalen,Träning,Träningsvärd
ORGANIZER;CN="Vissefj%C3%A4rda CK":MAILTO:info@vck.se
END:VEVENT
END:VCALENDAR