BEGIN:VCALENDAR
VERSION:2.0
PRODID:-//Vissefjärda CK - ECPv6.15.20//NONSGML v1.0//EN
CALSCALE:GREGORIAN
METHOD:PUBLISH
X-WR-CALNAME:Vissefjärda CK
X-ORIGINAL-URL:https://vck.se
X-WR-CALDESC:Händelser för Vissefjärda CK
REFRESH-INTERVAL;VALUE=DURATION:PT1H
X-Robots-Tag:noindex
X-PUBLISHED-TTL:PT1H
BEGIN:VTIMEZONE
TZID:Europe/Stockholm
BEGIN:DAYLIGHT
TZOFFSETFROM:+0100
TZOFFSETTO:+0200
TZNAME:CEST
DTSTART:20250330T010000
END:DAYLIGHT
BEGIN:STANDARD
TZOFFSETFROM:+0200
TZOFFSETTO:+0100
TZNAME:CET
DTSTART:20251026T010000
END:STANDARD
BEGIN:DAYLIGHT
TZOFFSETFROM:+0100
TZOFFSETTO:+0200
TZNAME:CEST
DTSTART:20260329T010000
END:DAYLIGHT
BEGIN:STANDARD
TZOFFSETFROM:+0200
TZOFFSETTO:+0100
TZNAME:CET
DTSTART:20261025T010000
END:STANDARD
BEGIN:DAYLIGHT
TZOFFSETFROM:+0100
TZOFFSETTO:+0200
TZNAME:CEST
DTSTART:20270328T010000
END:DAYLIGHT
BEGIN:STANDARD
TZOFFSETFROM:+0200
TZOFFSETTO:+0100
TZNAME:CET
DTSTART:20271031T010000
END:STANDARD
END:VTIMEZONE
BEGIN:VEVENT
DTSTART;TZID=Europe/Stockholm:20260603T170000
DTEND;TZID=Europe/Stockholm:20260603T200000
DTSTAMP:20260419T180847
CREATED:20260408T082906Z
LAST-MODIFIED:20260408T083848Z
UID:5730-1780506000-1780516800@vck.se
SUMMARY:Träningsvärd Carl Bouez.
DESCRIPTION:Carl 073-505 59 98.
URL:https://vck.se/event/traningsvard-carl-bouez-2/
LOCATION:Rövaredalen\, Grämnamåla 201\, Vissefjärda\, 361 96\, Sverige
CATEGORIES:Alla medlemmar,Rövaredalen,Träning,Träningsvärd
ORGANIZER;CN="Vissefj%C3%A4rda CK":MAILTO:info@vck.se
END:VEVENT
BEGIN:VEVENT
DTSTART;TZID=Europe/Stockholm:20260607T120000
DTEND;TZID=Europe/Stockholm:20260607T160000
DTSTAMP:20260419T180847
CREATED:20260408T084107Z
LAST-MODIFIED:20260408T084107Z
UID:5756-1780833600-1780848000@vck.se
SUMMARY:Träningsvärd Mathias Adolfsson.
DESCRIPTION:Mathias 076-185 97 28.
URL:https://vck.se/event/traningsvard-mathias-adolfsson/
LOCATION:Rövaredalen\, Grämnamåla 201\, Vissefjärda\, 361 96\, Sverige
CATEGORIES:Alla medlemmar,Rövaredalen,Träning,Träningsvärd
ORGANIZER;CN="Vissefj%C3%A4rda CK":MAILTO:info@vck.se
END:VEVENT
BEGIN:VEVENT
DTSTART;TZID=Europe/Stockholm:20260614T120000
DTEND;TZID=Europe/Stockholm:20260614T160000
DTSTAMP:20260419T180847
CREATED:20260408T083239Z
LAST-MODIFIED:20260408T083239Z
UID:5752-1781438400-1781452800@vck.se
SUMMARY:Träningsvärd Jesper Karlsson.
DESCRIPTION:Jesper 073-328 88 93.
URL:https://vck.se/event/traningsvard-jesper-karlsson/
LOCATION:Rövaredalen\, Grämnamåla 201\, Vissefjärda\, 361 96\, Sverige
CATEGORIES:Alla medlemmar,Rövaredalen,Träning,Träningsvärd
ORGANIZER;CN="Vissefj%C3%A4rda CK":MAILTO:info@vck.se
END:VEVENT
BEGIN:VEVENT
DTSTART;TZID=Europe/Stockholm:20260621T120000
DTEND;TZID=Europe/Stockholm:20260621T160000
DTSTAMP:20260419T180847
CREATED:20260408T083438Z
LAST-MODIFIED:20260408T083438Z
UID:5754-1782043200-1782057600@vck.se
SUMMARY:Träningsvärd Andreas Övgård.
DESCRIPTION:Andreas 073-338 76 92.
URL:https://vck.se/event/traningsvard-andreas-ovgard-6/
LOCATION:Rövaredalen\, Grämnamåla 201\, Vissefjärda\, 361 96\, Sverige
CATEGORIES:Alla medlemmar,Rövaredalen,Träning,Träningsvärd
ORGANIZER;CN="Vissefj%C3%A4rda CK":MAILTO:info@vck.se
END:VEVENT
BEGIN:VEVENT
DTSTART;VALUE=DATE:20260627
DTEND;VALUE=DATE:20260629
DTSTAMP:20260419T180847
CREATED:20260330T075551Z
LAST-MODIFIED:20260330T075551Z
UID:5686-1782518400-1782691199@vck.se
SUMMARY:Mx-Syd
DESCRIPTION:
URL:https://vck.se/event/mx-syd/
LOCATION:Rövaredalen\, Grämnamåla 201\, Vissefjärda\, 361 96\, Sverige
CATEGORIES:Alla medlemmar,Rövaredalen,Tävling
ORGANIZER;CN="Vissefj%C3%A4rda CK":MAILTO:info@vck.se
END:VEVENT
END:VCALENDAR