BEGIN:VCALENDAR
VERSION:2.0
PRODID:-//Vissefjärda CK - ECPv6.15.20//NONSGML v1.0//EN
CALSCALE:GREGORIAN
METHOD:PUBLISH
X-ORIGINAL-URL:https://vck.se
X-WR-CALDESC:Händelser för Vissefjärda CK
REFRESH-INTERVAL;VALUE=DURATION:PT1H
X-Robots-Tag:noindex
X-PUBLISHED-TTL:PT1H
BEGIN:VTIMEZONE
TZID:Europe/Stockholm
BEGIN:DAYLIGHT
TZOFFSETFROM:+0100
TZOFFSETTO:+0200
TZNAME:CEST
DTSTART:20240331T010000
END:DAYLIGHT
BEGIN:STANDARD
TZOFFSETFROM:+0200
TZOFFSETTO:+0100
TZNAME:CET
DTSTART:20241027T010000
END:STANDARD
BEGIN:DAYLIGHT
TZOFFSETFROM:+0100
TZOFFSETTO:+0200
TZNAME:CEST
DTSTART:20250330T010000
END:DAYLIGHT
BEGIN:STANDARD
TZOFFSETFROM:+0200
TZOFFSETTO:+0100
TZNAME:CET
DTSTART:20251026T010000
END:STANDARD
BEGIN:DAYLIGHT
TZOFFSETFROM:+0100
TZOFFSETTO:+0200
TZNAME:CEST
DTSTART:20260329T010000
END:DAYLIGHT
BEGIN:STANDARD
TZOFFSETFROM:+0200
TZOFFSETTO:+0100
TZNAME:CET
DTSTART:20261025T010000
END:STANDARD
END:VTIMEZONE
BEGIN:VEVENT
DTSTART;TZID=Europe/Stockholm:20250322T090000
DTEND;TZID=Europe/Stockholm:20250322T140000
DTSTAMP:20260419T145036
CREATED:20250320T150948Z
LAST-MODIFIED:20250320T150948Z
UID:5194-1742634000-1742652000@vck.se
SUMMARY:Arbetsdag 22/3
DESCRIPTION:Bangruppen behöver hjälp med att justera in bevattningen så att\nvi kan ha en perfekt bana på söndagens träning. \nÄr det någon som kan tänka sig att hjälpa till? \nCarl-Erik är på plats kl.9.00.
URL:https://vck.se/event/arbetsdag-22-3/
LOCATION:Rövaredalen\, Grämnamåla 201\, Vissefjärda\, 361 96\, Sverige
CATEGORIES:Arbetsdag,Rövaredalen
ORGANIZER;CN="Vissefj%C3%A4rda CK":MAILTO:info@vck.se
END:VEVENT
END:VCALENDAR