BEGIN:VCALENDAR
VERSION:2.0
PRODID:-//Vissefjärda CK - ECPv6.15.20//NONSGML v1.0//EN
CALSCALE:GREGORIAN
METHOD:PUBLISH
X-WR-CALNAME:Vissefjärda CK
X-ORIGINAL-URL:https://vck.se
X-WR-CALDESC:Händelser för Vissefjärda CK
REFRESH-INTERVAL;VALUE=DURATION:PT1H
X-Robots-Tag:noindex
X-PUBLISHED-TTL:PT1H
BEGIN:VTIMEZONE
TZID:Europe/Stockholm
BEGIN:DAYLIGHT
TZOFFSETFROM:+0100
TZOFFSETTO:+0200
TZNAME:CEST
DTSTART:20220327T010000
END:DAYLIGHT
BEGIN:STANDARD
TZOFFSETFROM:+0200
TZOFFSETTO:+0100
TZNAME:CET
DTSTART:20221030T010000
END:STANDARD
BEGIN:DAYLIGHT
TZOFFSETFROM:+0100
TZOFFSETTO:+0200
TZNAME:CEST
DTSTART:20230326T010000
END:DAYLIGHT
BEGIN:STANDARD
TZOFFSETFROM:+0200
TZOFFSETTO:+0100
TZNAME:CET
DTSTART:20231029T010000
END:STANDARD
BEGIN:DAYLIGHT
TZOFFSETFROM:+0100
TZOFFSETTO:+0200
TZNAME:CEST
DTSTART:20240331T010000
END:DAYLIGHT
BEGIN:STANDARD
TZOFFSETFROM:+0200
TZOFFSETTO:+0100
TZNAME:CET
DTSTART:20241027T010000
END:STANDARD
END:VTIMEZONE
BEGIN:VEVENT
DTSTART;TZID=Europe/Stockholm:20231001T100000
DTEND;TZID=Europe/Stockholm:20231001T120000
DTSTAMP:20260419T164015
CREATED:20230810T102909Z
LAST-MODIFIED:20230810T111736Z
UID:4372-1696154400-1696161600@vck.se
SUMMARY:Crosskola 10.00-12.00
DESCRIPTION:Söndagen den 20/8 börjar Crosskolan igen efter sommaruppehållet.\nVi har satt upp tre söndagar i höst.\n20/8 kl.10-12.\n3/9 kl.10-12.\n1/10 kl.10-12. \nTränare: Andreas Sjöberg \nHar du några frågor är du välkommen att mejla kansliet.  kansli@vck.se \nVälkomna!
URL:https://vck.se/event/crosskola-10-00-12-00-7/
LOCATION:Rövaredalen\, Grämnamåla 201\, Vissefjärda\, 361 96\, Sverige
CATEGORIES:Alla medlemmar,Crosskolan,Rövaredalen,Träning
ORGANIZER;CN="Vissefj%C3%A4rda CK":MAILTO:info@vck.se
END:VEVENT
BEGIN:VEVENT
DTSTART;TZID=Europe/Stockholm:20231001T120000
DTEND;TZID=Europe/Stockholm:20231001T160000
DTSTAMP:20260419T164015
CREATED:20230523T085804Z
LAST-MODIFIED:20230523T095009Z
UID:4283-1696161600-1696176000@vck.se
SUMMARY:Träningsvärd Jannis Dimtsas.
DESCRIPTION:Jannis 070-887 03 69.
URL:https://vck.se/event/traningsvard-sebastian-gottfridsson-6/
LOCATION:Rövaredalen\, Grämnamåla 201\, Vissefjärda\, 361 96\, Sverige
CATEGORIES:Alla medlemmar,Rövaredalen,Träning,Träningsvärd
ORGANIZER;CN="Vissefj%C3%A4rda CK":MAILTO:info@vck.se
END:VEVENT
END:VCALENDAR